BEGIN:VCALENDAR
VERSION:2.0
PRODID:-//ChamberMaster//Event Calendar 2.0//EN
METHOD:PUBLISH
X-PUBLISHED-TTL:P3D
REFRESH-INTERVAL:P3D
CALSCALE:GREGORIAN
BEGIN:VEVENT
DTSTART:20200115T233000Z
DTEND:20200116T013000Z
X-MICROSOFT-CDO-ALLDAYEVENT:FALSE
SUMMARY:Nexus Young Professionals EDU
DESCRIPTION:Nexus Young Professionals is excited to host an educational workshop on networking! The workshop will be presented by Adrian Chenault\, CEO & Co-Founder of Contact Mapping.\n\n\n\nThe first hour of this event will be reserved for the workshop\, the second half will be free-form networking. This will give us all a chance to put our newfound networking skills to use right away!\n\n\n\nAbout our speaker: Adrian Chenault is the CEO and Co-Founder of Contact Mapping. Adrian recognized an opportunity to take the principles of Contact Mapping pioneered by his father and infuse technology to make it easy for people of any industry to achieve greater success and connection in their lives.\n\n \n\nPrior to Contact Mapping\, Adrian spent seven years at Rackspace where he was most recently Sr. Director of International Finance. He led the finance function for all of Rackspace's operations outside the US. During his seven years there\, he worked in the US\, UK\, Australia\, and Switzerland.\n\n \n\nAdrian earned his Chartered Financial Analyst designation while working as an Equity Analyst for South Texas Money Management. He graduated Summa Cum Laude from Trinity University in San Antonio\, Texas.
X-ALT-DESC;FMTTYPE=text/html:Nexus Young Professionals is excited to host an educational workshop on networking! The workshop will be presented by Adrian Chenault\, CEO &amp\; Co-Founder of Contact Mapping.<br />\n<br />\nThe first hour of this event will be reserved for the workshop\, the second half will be free-form networking. This will give us all a chance to put our newfound networking skills to use right away!<br />\n<br />\nAbout our speaker:&nbsp\;Adrian Chenault is the CEO and Co-Founder of Contact Mapping. Adrian recognized an opportunity to take the principles of Contact Mapping pioneered by his father and infuse technology to make it easy for people of any industry to achieve greater success and connection in their lives.<br />\n&nbsp\;<br />\nPrior to Contact Mapping\, Adrian spent seven years at Rackspace where he was most recently Sr. Director of International Finance. He led the finance function for all of Rackspace&rsquo\;s operations outside the US. During his seven years there\, he worked in the US\, UK\, Australia\, and Switzerland.<br />\n&nbsp\;<br />\nAdrian earned his Chartered Financial Analyst designation while working as an Equity Analyst for South Texas Money Management. He graduated Summa Cum Laude from Trinity University in San Antonio\, Texas.
LOCATION:La Vita Bella 471 Main St. Longmont\, CO 80501
UID:e.3083.7345
SEQUENCE:3
DTSTAMP:20260425T195838Z
URL:https://members.longmontchamber.org/events/details/nexus-young-professionals-edu-7345
END:VEVENT

END:VCALENDAR
