BEGIN:VCALENDAR
VERSION:2.0
PRODID:-//ChamberMaster//Event Calendar 2.0//EN
METHOD:PUBLISH
X-PUBLISHED-TTL:P3D
REFRESH-INTERVAL:P3D
CALSCALE:GREGORIAN
BEGIN:VEVENT
DTSTART:20191002T223000Z
DTEND:20191003T003000Z
X-MICROSOFT-CDO-ALLDAYEVENT:FALSE
SUMMARY:Nexus Young Professionals Mixer
DESCRIPTION:Join us for a Nexus mixer at Quarters Bar+Arcade!\n\n\n\nQuarters is a great place to mix\, mingle\, have a drink and play some games. From Pacman to pinball\, Donkey Kong to skeeball\, there is plenty to play and 20 taps of beer wine and cider to choose from.\n\nQuarters will provide pizza at this event and anyone attending with Nexus will receive 10% off their drink tab.\n\nCome meet new friends and play some games!
X-ALT-DESC;FMTTYPE=text/html:<p>Join us for a Nexus mixer at Quarters Bar+Arcade!<br />\n<br />\nQuarters is a great place to mix\, mingle\, have a drink and play some games. From Pacman to pinball\, Donkey Kong to skeeball\, there is plenty to play and 20 taps of beer wine and cider to choose from.</p>\n\n<p>Quarters will provide pizza at this event and anyone attending with Nexus will receive 10% off their drink tab.</p>\n\n<p>Come meet new friends and play some games!</p>\n
LOCATION:Quarters Bar+Arcade 475 Main St. Longmont\, CO 80501
UID:e.3083.7319
SEQUENCE:3
DTSTAMP:20260426T005303Z
URL:https://members.longmontchamber.org/events/details/nexus-young-professionals-mixer-7319
END:VEVENT

END:VCALENDAR
