BEGIN:VCALENDAR
VERSION:2.0
PRODID:-//ChamberMaster//Event Calendar 2.0//EN
METHOD:PUBLISH
X-PUBLISHED-TTL:P3D
REFRESH-INTERVAL:P3D
CALSCALE:GREGORIAN
BEGIN:VEVENT
DTSTART:20191204T233000Z
DTEND:20191205T013000Z
X-MICROSOFT-CDO-ALLDAYEVENT:FALSE
SUMMARY:Nexus Young Professionals Mixer
DESCRIPTION:Join us for our last Nexus Event of 2019! These events are free-form mix and mingle events. In December\, we'll be at Longtucky Spirits. Since it's the holiday season\, we're doing an Ugly Sweater Contest!!! Prize for the the winner.\n\nA community-focused micro distillery featuring local ingredients and Longtucky (TM) craft cocktails.
X-ALT-DESC;FMTTYPE=text/html:<p><span style="font-family:arial\;">Join us for our last Nexus Event of 2019! These events are free-form mix and mingle events. In December\, we&#39\;ll be at Longtucky Spirits. Since it&#39\;s the holiday season\, we&#39\;re doing an&nbsp\;<strong>Ugly Sweater Contest!!!</strong>&nbsp\;Prize for the the winner.</span></p>\n\n<p><span style="font-family:arial\;"><span style="color: rgb(81\, 83\, 81)\; font-size: 15px\;">A community-focused micro distillery featuring local ingredients and Longtucky (TM) craft cocktails.</span></span></p>\n
LOCATION:350 Terry St. #120 Longmont\, CO 80501
UID:e.3083.7338
SEQUENCE:3
DTSTAMP:20260425T213922Z
URL:https://members.longmontchamber.org/events/details/nexus-young-professionals-mixer-7338
END:VEVENT

END:VCALENDAR
