BEGIN:VCALENDAR
VERSION:2.0
PRODID:-//ChamberMaster//Event Calendar 2.0//EN
METHOD:PUBLISH
X-PUBLISHED-TTL:P3D
REFRESH-INTERVAL:P3D
CALSCALE:GREGORIAN
BEGIN:VEVENT
DTSTART:20200205T233000Z
DTEND:20200206T013000Z
X-MICROSOFT-CDO-ALLDAYEVENT:FALSE
SUMMARY:Nexus Young Professionals Mixer
DESCRIPTION:Join us for our February Nexus Young Professionals Mixer! This month we'll be hanging out at St Vrain Cidery. Come enjoy a cider\, see old friends and meet some new ones!\n\n\n\nThis is free-form mix and mingle event that provides the opportunity to meet other young professionals in their 20's and 30's from a variety of industries. Light snacks will be provided by our host.
X-ALT-DESC;FMTTYPE=text/html:Join us for our February Nexus Young Professionals Mixer! This month we&#39\;ll be hanging out at St Vrain Cidery. Come enjoy a cider\, see old friends and meet some new ones!<br />\n<br />\nThis is free-form mix and mingle event that provides the opportunity to meet other young professionals in their 20&#39\;s and 30&#39\;s from a variety of industries. Light snacks will be provided by our host.
LOCATION:St Vrain Cidery 350 Terry St. #130 Longmont\, CO 80501
UID:e.3083.7382
SEQUENCE:3
DTSTAMP:20260425T182503Z
URL:https://members.longmontchamber.org/events/details/nexus-young-professionals-mixer-7382
END:VEVENT

END:VCALENDAR
