BEGIN:VCALENDAR
VERSION:2.0
PRODID:-//ChamberMaster//Event Calendar 2.0//EN
METHOD:PUBLISH
X-PUBLISHED-TTL:P3D
REFRESH-INTERVAL:P3D
CALSCALE:GREGORIAN
BEGIN:VEVENT
DTSTART:20200709T220000Z
DTEND:20200709T230000Z
X-MICROSOFT-CDO-ALLDAYEVENT:FALSE
SUMMARY:Nexus YP Book Club on Zoom
DESCRIPTION:Join us for the Nexus Young Professionals Book Club!\n\n\n\nBook Club meets on the 2nd Thursday of every month at 4pm to discuss the current book chosen by members of the group. Currently\, we are holding meetings over Zoom.\n\n\n\nThe book this month is The Hate U Give by Angie Thomas. If you haven't been to Book Club before and want to jump in\, you are welcome to join us!\n\n\n\nNexus YP is a community of professionals in their 20's & 30's.
X-ALT-DESC;FMTTYPE=text/html:Join us for the Nexus Young Professionals Book Club!<br />\n<br />\nBook Club meets on the 2nd Thursday of every month at 4pm to discuss the current book chosen by members of the group. Currently\, we are holding meetings over Zoom.<br />\n<br />\nThe book this month is The Hate U Give by Angie Thomas. If you haven&#39\;t been to Book Club before and want to jump in\, you are welcome to join us!<br />\n<br />\nNexus YP is a community of professionals in their 20&#39\;s &amp\; 30&#39\;s.
LOCATION:Email Jessica Carson for Meeting Info: jcarson@longmontchamber.org
UID:e.3083.7592
SEQUENCE:3
DTSTAMP:20260425T104023Z
URL:https://members.longmontchamber.org/events/details/nexus-yp-book-club-on-zoom-07-09-2020-7592
END:VEVENT

END:VCALENDAR
