BEGIN:VCALENDAR
VERSION:2.0
PRODID:-//ChamberMaster//Event Calendar 2.0//EN
METHOD:PUBLISH
X-PUBLISHED-TTL:P3D
REFRESH-INTERVAL:P3D
CALSCALE:GREGORIAN
BEGIN:VEVENT
DTSTART:20200409T220000Z
DTEND:20200409T230000Z
X-MICROSOFT-CDO-ALLDAYEVENT:FALSE
SUMMARY:Nexus YP Book Club on Zoom
DESCRIPTION:Join us for the Nexus Young Professionals Book Club!\n\nBook Club meets on the 2nd Thursday of every month at 4pm to discuss the current book chosen by members of the group. Currently\, we are holding meetings over Zoom.\n\nIf you haven't been to Book Club before and want to jump in\, you are welcome to join us! Email Genevieve (genevieve@marketreach.solutions) the Nexus committee member\, for the selected reading and to get plugged in to Book Club.\n\nNexus YP is a community of professionals in their 20's & 30's.
X-ALT-DESC;FMTTYPE=text/html:<p>Join us for the Nexus Young Professionals Book Club!</p>\n\n<p>Book Club meets on the 2nd Thursday of every month at 4pm to discuss the current book chosen by members of the group. Currently\, we are holding meetings over Zoom.</p>\n\n<p>If you haven&#39\;t been to Book Club before and want to jump in\, you are welcome to join us! Email Genevieve (genevieve@marketreach.solutions) the Nexus committee member\, for the selected reading and to get plugged in to Book Club.</p>\n\n<p>Nexus YP is a community of professionals in their 20&#39\;s &amp\; 30&#39\;s.</p>\n
LOCATION:Book Club is Currently held on Zoom\, register for call information!
UID:e.3083.7389
SEQUENCE:3
DTSTAMP:20260425T152917Z
URL:https://members.longmontchamber.org/events/details/nexus-yp-book-club-on-zoom-7389
END:VEVENT

END:VCALENDAR
