BEGIN:VCALENDAR
VERSION:2.0
PRODID:-//ChamberMaster//Event Calendar 2.0//EN
METHOD:PUBLISH
X-PUBLISHED-TTL:P3D
REFRESH-INTERVAL:P3D
CALSCALE:GREGORIAN
BEGIN:VEVENT
DTSTART:20200401T223000Z
DTEND:20200402T003000Z
X-MICROSOFT-CDO-ALLDAYEVENT:FALSE
SUMMARY:Nexus YP Mixer: 300 Suns Brewing
DESCRIPTION:Join us for our April Nexus Young Professionals Mixer! This month we'll be hanging out at 300 Suns Brewing. Come enjoy a brew\, see old friends and meet some new ones!\n\n\n\nThis is free-form mix and mingle event that provides the opportunity to meet other young professionals in their 20's and 30's from a variety of industries. Light snacks will be provided by Scratch Kitchen.\n\n\n\n300 Suns hosts an open jam every Wednesday\, so if you feel like playing music afterwards\, bring an instrument and plan to stay!
X-ALT-DESC;FMTTYPE=text/html:Join us for our April Nexus Young Professionals Mixer! This month we&#39\;ll be hanging out at 300 Suns Brewing. Come enjoy a brew\, see old friends and meet some new ones!<br />\n<br />\nThis is free-form mix and mingle event that provides the opportunity to meet other young professionals in their 20&#39\;s and 30&#39\;s from a variety of industries. Light snacks will be provided by Scratch Kitchen.<br />\n<br />\n300 Suns hosts an open jam every Wednesday\, so if you feel like playing music afterwards\, bring an instrument and plan to stay!
LOCATION:300 Suns Brewing 335 1st Ave. Longmont CO. 80501
UID:e.3083.7567
SEQUENCE:3
DTSTAMP:20260425T152749Z
URL:https://members.longmontchamber.org/events/details/nexus-yp-mixer-300-suns-brewing-7567
END:VEVENT

END:VCALENDAR
