BEGIN:VCALENDAR
VERSION:2.0
PRODID:-//ChamberMaster//Event Calendar 2.0//EN
METHOD:PUBLISH
X-PUBLISHED-TTL:P3D
REFRESH-INTERVAL:P3D
CALSCALE:GREGORIAN
BEGIN:VEVENT
DTSTART:20200603T223000Z
DTEND:20200603T233000Z
X-MICROSOFT-CDO-ALLDAYEVENT:FALSE
SUMMARY:Nexus YP Mixer on Zoom
DESCRIPTION:This month would have been our mixer at Wibby Brewing. Since we're not quite ready to start having in-person meetings and mixers\, we will have this one on Zoom.\n\n\n\nIf you would still like to support Wibby and purchase your beverages from them to enjoy during our online happy hour\, they are offering 10% off to Nexus members that call in and order over the phone on 6/3. Just mention that you are purchasing your beer to-go for the happy hour and they will apply your discount over the phone.
X-ALT-DESC;FMTTYPE=text/html:<font color="#515351" face="CenturyGothic\, Arial\, Helvetica\, sans-serif"><span style="font-size: 15px\;">This month would have been our mixer at Wibby Brewing. Since we&#39\;re not quite ready to start having in-person meetings and mixers\, we will have this one on Zoom.<br />\n<br />\nIf you would still like to support Wibby and purchase your beverages from them to enjoy during our online happy hour\, they are offering 10% off to Nexus members that call in and order over the phone on 6/3. Just mention that you are purchasing your beer to-go for the happy hour and they will apply your discount over the phone.</span></font>
LOCATION:Register For Zoom Meeting Info
UID:e.3083.7568
SEQUENCE:3
DTSTAMP:20260425T120614Z
URL:https://members.longmontchamber.org/events/details/nexus-yp-mixer-on-zoom-7568
END:VEVENT

END:VCALENDAR
