BEGIN:VCALENDAR
VERSION:2.0
PRODID:-//ChamberMaster//Event Calendar 2.0//EN
METHOD:PUBLISH
X-PUBLISHED-TTL:P3D
REFRESH-INTERVAL:P3D
CALSCALE:GREGORIAN
BEGIN:VEVENT
DTSTART:20191120T210000Z
DTEND:20191121T000000Z
X-MICROSOFT-CDO-ALLDAYEVENT:FALSE
SUMMARY:Nexus YP Volunteer Event
DESCRIPTION:The Nexus Yong Professionals Group is spreading some good in the community with a volunteer event in November. The group will volunteer to help out at the OUR Center in Longmont.\n\n\n\nActivities will vary depending on how many people sign up to help. If you would like to help\, sign up here:\n\nhttps://www.signupgenius.com/go/8050949abae22abf49-nexus\n\n\n\nPlease specify when you sign up if you are able to volunteer for the entire 3 hours or if you can only help for a portion of the time.
X-ALT-DESC;FMTTYPE=text/html:<p>The Nexus Yong Professionals Group is spreading some good in the community with a volunteer event in November. The group will volunteer to help out at the OUR Center in Longmont.<br />\n<br />\nActivities will vary depending on how many people sign up to help. If you would like to help\, sign up here:</p>\n\n<p><span style="font-family:calibri\,sans-serif\;"><span style="font-size:11.0pt\;"><a href="https://www.signupgenius.com/go/8050949abae22abf49-nexus">https://www.signupgenius.com/go/8050949abae22abf49-nexus</a><br />\n<br />\nPlease specify when you sign up&nbsp\;if you are able to volunteer for the entire 3 hours or if you can only help for a portion of the time.</span></span></p>\n
LOCATION:220 Collyer St. Longmont\, CO 80501
UID:e.3083.7337
SEQUENCE:3
DTSTAMP:20260425T232717Z
URL:https://members.longmontchamber.org/events/details/nexus-yp-volunteer-event-7337
END:VEVENT

END:VCALENDAR
