BEGIN:VCALENDAR
VERSION:2.0
PRODID:-//ChamberMaster//Event Calendar 2.0//EN
METHOD:PUBLISH
X-PUBLISHED-TTL:P3D
REFRESH-INTERVAL:P3D
CALSCALE:GREGORIAN
BEGIN:VEVENT
DTSTART:20220714T220000Z
DTEND:20220714T230000Z
X-MICROSOFT-CDO-ALLDAYEVENT:FALSE
SUMMARY:No July Education Committee Meeting
DESCRIPTION:The Education Committee builds bridges between businesses and the education community to create an empowered and dynamic future workforce. Help make business connections with the St. Vrain Valley School District and Front Range Community College to build the business leaders of tomorrow.
X-ALT-DESC;FMTTYPE=text/html:The Education Committee builds bridges between businesses and the education community to create an empowered and dynamic future workforce. Help make business connections with the St. Vrain Valley School District and Front Range Community College to build the business leaders of tomorrow.
LOCATION:Education Committee is currently meeting via Zoom.
UID:e.3083.8634
SEQUENCE:3
DTSTAMP:20260423T204631Z
URL:https://members.longmontchamber.org/events/details/no-july-education-committee-meeting-8634
END:VEVENT

END:VCALENDAR
