BEGIN:VCALENDAR
VERSION:2.0
PRODID:-//ChamberMaster//Event Calendar 2.0//EN
METHOD:PUBLISH
X-PUBLISHED-TTL:P3D
REFRESH-INTERVAL:P3D
CALSCALE:GREGORIAN
BEGIN:VEVENT
DTSTART:20230608T220000Z
DTEND:20230608T230000Z
X-MICROSOFT-CDO-ALLDAYEVENT:FALSE
SUMMARY:No June Meeting: Education Committee Meeting
DESCRIPTION:The Education Committee builds bridges between businesses and the education community to create an empowered and dynamic future workforce. Help make business connections with the St. Vrain Valley School District and Front Range Community College to build the business leaders of tomorrow.
X-ALT-DESC;FMTTYPE=text/html:The Education Committee builds bridges between businesses and the education community to create an empowered and dynamic future workforce. Help make business connections with the St. Vrain Valley School District and Front Range Community College to build the business leaders of tomorrow.
LOCATION:Education Committee meetings are in hybrid format. Conference Room at Longmont Chamber\, 528 Main Street
UID:e.3083.9275
SEQUENCE:3
DTSTAMP:20260423T023317Z
URL:https://members.longmontchamber.org/events/details/no-june-meeting-education-committee-meeting-9275
END:VEVENT

END:VCALENDAR
