BEGIN:VCALENDAR
VERSION:2.0
PRODID:-//ChamberMaster//Event Calendar 2.0//EN
METHOD:PUBLISH
X-PUBLISHED-TTL:P3D
REFRESH-INTERVAL:P3D
CALSCALE:GREGORIAN
BEGIN:VEVENT
DTSTART:20250214T220000Z
DTEND:20250215T050000Z
X-MICROSOFT-CDO-ALLDAYEVENT:FALSE
SUMMARY:"No Pressure" Valentine's Day Specials!
DESCRIPTION:Whether you are honoring the sweet or the sour\, companionship or solitude\, friendship and community\, or it just being another day\, we're here rooted in LOVE!\n\nWe will be offering exquisite and cheekily themed specials and treats\, crafted with love and care! How about a Between The Sheets or The "L" Word!?\n\nPair these cocktails\, perfect for the day\, with new small plates from the creative Dry Land kitchen team! Choose from our new Baked Ricotta Tart\, Olive Oil Cake\, or either of our lovely Dried Fruit and Cheese or Bar Pickle Plates!\n\nCome share in the dark and light matters of the heart this Valentine's Day in the name of connection\, collaboration\, and community!
X-ALT-DESC;FMTTYPE=text/html:<p><span style="color:rgb(126\, 140\, 141)\; font-family:arial\,helvetica\,sans-serif\; font-size:14pt">Whether you are honoring the sweet or the sour\, companionship or solitude\, friendship and community\, or it just being another day\, we&#39\;re here rooted in LOVE!</span></p>\n\n<p><span style="color:rgb(126\, 140\, 141)\; font-family:arial\,helvetica\,sans-serif\; font-size:14pt">We will be offering exquisite and cheekily themed specials and treats\, crafted with love and care! How about a&nbsp\;<strong>Between The Sheets</strong>&nbsp\;or&nbsp\;<strong>The &quot\;L&quot\; Word</strong>!?</span></p>\n\n<p><span style="color:rgb(126\, 140\, 141)\; font-family:arial\,helvetica\,sans-serif\; font-size:14pt">Pair these cocktails\, perfect for the day\, with new small plates from the creative Dry Land kitchen team! Choose from our new&nbsp\;<strong>Baked Ricotta Tart</strong>\,&nbsp\;<strong>Olive Oil Cake</strong>\, or either of our lovely&nbsp\;<strong>Dried Fruit and Cheese</strong>&nbsp\;or&nbsp\;<strong>Bar Pickle Plates</strong>!</span></p>\n\n<p><span style="color:rgb(126\, 140\, 141)\; font-family:arial\,helvetica\,sans-serif\; font-size:14pt">Come share in the dark and light matters of the heart this Valentine&#39\;s Day in the name of connection\, collaboration\, and community!</span></p>\n
LOCATION:Dry Land Distillers
UID:e.3083.10906
SEQUENCE:3
DTSTAMP:20260421T190231Z
URL:https://members.longmontchamber.org/events/details/no-pressure-valentine-s-day-specials-10906
END:VEVENT

END:VCALENDAR
