BEGIN:VCALENDAR
VERSION:2.0
PRODID:-//ChamberMaster//Event Calendar 2.0//EN
METHOD:PUBLISH
X-PUBLISHED-TTL:P3D
REFRESH-INTERVAL:P3D
CALSCALE:GREGORIAN
BEGIN:VEVENT
DTSTART:20240117T151500Z
DTEND:20240117T163000Z
X-MICROSOFT-CDO-ALLDAYEVENT:FALSE
SUMMARY:North Main Meeting: Breakfast and City Presentation
DESCRIPTION:Join your fellow North Main Businesses for the January meeting with speaker\, Harold Dominguez\, Longmont City Manager. Harold will discuss overall city priorities from housing\, transportation\, the creation of a Mental Health Center for Excellence\, Public Safety and how the Main Street corridor fits into these plans. Businesses are an important part of the success of this area and Harold is interested to take your questions.  \n\nNorth Main Meetings are quarterly meetings that include a lite breakfast\, networking and presentations geared especially for the North Main corridor from Hwy 66 south to the LDDA boundary (8th Avenue or Longs Peak Avenue). Meetings are hosted by the Longmont Chamber and the Longmont Economic Development Partnership (LEDP). There is no charge to attend the meetings and businesses do not need to be a member or investor in either organization.
X-ALT-DESC;FMTTYPE=text/html:<p style="margin-bottom:8pt"><span style="color: black\;">Join your fellow North Main Businesses for the January meeting with speaker\, Harold Dominguez\, Longmont City Manager. Harold will discuss overall city priorities from housing\, transportation\, the creation of a Mental Health Center for Excellence\, Public Safety and how the Main Street corridor fits into these plans. Businesses are an important part of the success of this area and Harold is interested to take your questions. &nbsp\;</span></p>\n\n<p style="margin-bottom:8pt"><span style="color: black\;">North Main Meetings are quarterly meetings that include a lite breakfast\, networking and presentations geared especially for the North Main corridor from Hwy 66 south to the LDDA boundary (8<sup>th</sup> Avenue or Longs Peak Avenue). Meetings are hosted by the Longmont Chamber and the Longmont Economic Development Partnership (LEDP). There is no charge to attend the meetings and businesses do not need to be a member or investor in either organization. &nbsp\;</span></p>\n
LOCATION:First Interstate Bank 2100 Main Street Longmont\, CO 80501
UID:e.3083.9995
SEQUENCE:3
DTSTAMP:20260422T152348Z
URL:https://members.longmontchamber.org/events/details/north-main-meeting-breakfast-and-city-presentation-9995
END:VEVENT

END:VCALENDAR
