BEGIN:VCALENDAR
VERSION:2.0
PRODID:-//ChamberMaster//Event Calendar 2.0//EN
METHOD:PUBLISH
X-PUBLISHED-TTL:P3D
REFRESH-INTERVAL:P3D
CALSCALE:GREGORIAN
BEGIN:VEVENT
DTSTART:20230921T141500Z
DTEND:20230921T153000Z
X-MICROSOFT-CDO-ALLDAYEVENT:FALSE
SUMMARY:North Main Public Safety and Business Networking Breakfast
DESCRIPTION:The Longmont Chamber is hosting with its partner\, LEDP (Longmont Economic Development Partnership) a special quarterly meeting for North Main businesses. Sara Aerne and David Kennedy with Longmont Public Safety will present and take your questions on public safety concerns for the North Main area. There will also be a short time for networking giving you a chance to meet your fellow North Main business neighbors. Lite breakfast snacks and coffee provided. Registration required for food and seating requirements. No charge.
X-ALT-DESC;FMTTYPE=text/html:The Longmont Chamber is hosting with its partner\, LEDP (Longmont Economic Development Partnership) a special quarterly meeting for <span class="marknbbd3vuvg" data-markjs="true" data-ogab="" data-ogac="" data-ogsb="" data-ogsc="" style="">North</span> <span class="marklk3aktyc9" data-markjs="true" data-ogab="" data-ogac="" data-ogsb="" data-ogsc="" style="">Main</span> businesses. Sara Aerne and David Kennedy with Longmont Public Safety will present and take your questions on public safety concerns for the <span class="marknbbd3vuvg" data-markjs="true" data-ogab="" data-ogac="" data-ogsb="" data-ogsc="" style="">North</span> <span class="marklk3aktyc9" data-markjs="true" data-ogab="" data-ogac="" data-ogsb="" data-ogsc="" style="">Main</span> area. There will also be a short time for networking giving you a chance to meet your fellow <span class="marknbbd3vuvg" data-markjs="true" data-ogab="" data-ogac="" data-ogsb="" data-ogsc="" style="">North</span> <span class="marklk3aktyc9" data-markjs="true" data-ogab="" data-ogac="" data-ogsb="" data-ogsc="" style="">Main</span> business neighbors. Lite <span class="markqg3bnjupf" data-markjs="true" data-ogab="" data-ogac="" data-ogsb="" data-ogsc="" style="">breakfast</span> snacks and coffee provided. Registration required for food and seating requirements. No charge.
LOCATION:First Interstate Bank\, 2100 Main Street\, 2nd Floor
UID:e.3083.9940
SEQUENCE:3
DTSTAMP:20260422T215123Z
URL:https://members.longmontchamber.org/events/details/north-main-public-safety-and-business-networking-breakfast-9940
END:VEVENT

END:VCALENDAR
