BEGIN:VCALENDAR
VERSION:2.0
PRODID:-//ChamberMaster//Event Calendar 2.0//EN
METHOD:PUBLISH
X-PUBLISHED-TTL:P3D
REFRESH-INTERVAL:P3D
CALSCALE:GREGORIAN
BEGIN:VEVENT
DTSTART:20250306T160000Z
DTEND:20250306T200000Z
X-MICROSOFT-CDO-ALLDAYEVENT:FALSE
SUMMARY:Northwest Chamber Alliance (NWCA) Day at the Capitol
DESCRIPTION:The Longmont Chamber\, in partnership with our Northwest Chamber Alliance colleagues\, invites you to join us for the Northwest Chamber Alliance's Day at the Capitol presented by the Boulder Chamber\, Broomfield Area Chamber\, the Lafayette Chamber\, the Latino Chamber of Boulder County\, the Longmont Area Chamber\, the Louisville Chamber\, and the Superior Chamber.\n\n\n\nThe Northwest Chamber Alliance is scheduled to engage our State Legislators regarding the Alliance's top legislative priorities. This is also an opportunity for our members to communicate directly with our state government leadership on issues important to them and their businesses and to gain insight into the state legislative process.\n\nPlease use this Boulder Chamber link to register. Note: You do not need to be a Boulder Chamber member to register: \n\nhttps://business.boulderchamber.com/events-calendar/Details/northwest-chamber-alliance-day-at-the-capitol-1328172?sourceTypeId=Hub
X-ALT-DESC;FMTTYPE=text/html:<p style="font-style: normal\; font-variant-ligatures: normal\; font-variant-caps: normal\; font-weight: 400\; letter-spacing: normal\; orphans: 2\; text-align: start\; text-indent: 0px\; text-transform: none\; widows: 2\; word-spacing: 0px\; -webkit-text-stroke-width: 0px\; white-space: normal\; text-decoration-thickness: initial\; text-decoration-style: initial\; text-decoration-color: initial\; color: rgb(36\, 36\, 36)\; font-family: "><span style="color: rgb(0\, 0\, 0)\;"><span style="border: 0px\; font-style: inherit\; font-variant: inherit\; font-weight: inherit\; font-stretch: inherit\; font-size: 12pt\; line-height: inherit\; font-family: Aptos\, sans-serif\; font-optical-sizing: inherit\; font-kerning: inherit\; font-feature-settings: inherit\; font-variation-settings: inherit\; margin: 0px\; padding: 0px\; vertical-align: baseline\;">The Longmont Chamber\, in partnership with our Northwest Chamber Alliance colleagues\, invites you to join us for the Northwest Chamber Alliance&#39\;s Day at the Capitol presented by the Boulder Chamber\, Broomfield Area Chamber\, the Lafayette Chamber\, the Latino Chamber of Boulder County\, the Longmont Area Chamber\, the Louisville Chamber\, and the Superior Chamber.</span></span></p>\n\n<p style="font-style: normal\; font-variant-ligatures: normal\; font-variant-caps: normal\; font-weight: 400\; letter-spacing: normal\; orphans: 2\; text-align: start\; text-indent: 0px\; text-transform: none\; widows: 2\; word-spacing: 0px\; -webkit-text-stroke-width: 0px\; white-space: normal\; text-decoration-thickness: initial\; text-decoration-style: initial\; text-decoration-color: initial\; color: rgb(36\, 36\, 36)\; font-family: "><br />\n<span style="color: rgb(0\, 0\, 0)\;"><span style="border: 0px\; font-style: inherit\; font-variant: inherit\; font-weight: inherit\; font-stretch: inherit\; font-size: 12pt\; line-height: inherit\; font-family: Aptos\, sans-serif\; font-optical-sizing: inherit\; font-kerning: inherit\; font-feature-settings: inherit\; font-variation-settings: inherit\; margin: 0px\; padding: 0px\; vertical-align: baseline\;">The Northwest Chamber Alliance is scheduled to engage our State Legislators regarding the Alliance&#39\;s top legislative priorities. This is also an opportunity for our members to communicate directly with our state government leadership on issues important to them and their businesses and to gain insight into the state legislative process.<br />\nPlease use this Boulder Chamber link to register. Note: You do not need to be a Boulder Chamber member to register: </span></span><br />\nhttps://business.boulderchamber.com/events-calendar/Details/northwest-chamber-alliance-day-at-the-capitol-1328172?sourceTypeId=Hub</p>\n
LOCATION:
UID:e.3083.11154
SEQUENCE:3
DTSTAMP:20260421T160546Z
URL:https://members.longmontchamber.org/events/details/northwest-chamber-alliance-nwca-day-at-the-capitol-11154
END:VEVENT

END:VCALENDAR
