BEGIN:VCALENDAR
VERSION:2.0
PRODID:-//ChamberMaster//Event Calendar 2.0//EN
METHOD:PUBLISH
X-PUBLISHED-TTL:P3D
REFRESH-INTERVAL:P3D
CALSCALE:GREGORIAN
BEGIN:VEVENT
DTSTART:20250315T170000Z
DTEND:20250316T050000Z
X-MICROSOFT-CDO-ALLDAYEVENT:FALSE
SUMMARY:Office Space @ Axe ME Out's Rage Room
DESCRIPTION:We've all seen the movie *Office Space* and have experienced the frustration of a printer that refuses to cooperate.  Now\, you can reenact the iconic scene! \n\n\n\nJoin us for our rage room event\, where we have printers\, computers\, and fax machines available for your venting needs. \n\n\n\nCome dressed in a button-up shirt and tie\, and you will receive a complimentary beverage!\n\n\n\n$35/person/rage session- breakables provided
X-ALT-DESC;FMTTYPE=text/html:<br />\n<span style="font-size:22px\;">We&rsquo\;ve all seen the movie *Office Space* and have experienced the frustration of a printer that refuses to cooperate.&nbsp\; Now\, you can reenact the iconic scene!&nbsp\;<br />\n<br />\nJoin us for our rage room event\, where we have printers\, computers\, and fax machines available for your venting needs.&nbsp\;<br />\n<br />\nCome dressed in a button-up shirt and tie\, and you will receive a complimentary beverage!</span><br />\n<br />\n<span style="font-size:20px\;">$35/person/rage session- breakables provided</span>
LOCATION:
UID:e.3083.11677
SEQUENCE:3
DTSTAMP:20260421T160226Z
URL:https://members.longmontchamber.org/events/details/office-space-axe-me-out-s-rage-room-11677
END:VEVENT

END:VCALENDAR
