BEGIN:VCALENDAR
VERSION:2.0
PRODID:-//ChamberMaster//Event Calendar 2.0//EN
METHOD:PUBLISH
X-PUBLISHED-TTL:P3D
REFRESH-INTERVAL:P3D
CALSCALE:GREGORIAN
BEGIN:VEVENT
DTSTART:20230923T170000Z
DTEND:20230924T010000Z
X-MICROSOFT-CDO-ALLDAYEVENT:FALSE
SUMMARY:Oktoberfest at Thompson Park
DESCRIPTION:Join your friends and neighbors in a fun community festival at Thompson Park\, September 23\, 2023. Longmont Humane Society presents Oktoberfest\, complete with beer and pretzels\, but also including a variety of live music and food and beverage selections for all tastes!\n\nThere will be lots of fun and games as well as a local artisan market for you to get ahead of your holiday shopping.\n\nBring your dog and enjoy a specially curated Paw Partners space featuring awesome pet-centric vendors and doggie activities.  Or chill out in the shade of the Hot Dog Lounge\, equipped with plenty of water and treats!
X-ALT-DESC;FMTTYPE=text/html:<p><span style="font-family:courier new">Join your friends and neighbors in a fun community festival at Thompson Park\, September 23\, 2023. Longmont Humane Society presents Oktoberfest\, complete with beer and pretzels\, but also including a variety of live music and food and beverage selections for all tastes!</span></p>\n\n<p><span style="font-family:courier new">There will be lots of fun and games as well as a local artisan market for you to get ahead of your holiday shopping.</span></p>\n\n<p><span style="font-family:courier new">Bring your dog and enjoy a specially curated Paw Partners space featuring awesome pet-centric vendors and doggie activities.&nbsp\; Or chill out in the shade of the Hot Dog Lounge\, equipped with plenty of water and treats!</span></p>\n
LOCATION:Thompson Park 420 Bross St. Longmont\, CO 80501
UID:e.3083.9678
SEQUENCE:3
DTSTAMP:20260422T215102Z
URL:https://members.longmontchamber.org/events/details/oktoberfest-at-thompson-park-9678
END:VEVENT

END:VCALENDAR
