BEGIN:VCALENDAR
VERSION:2.0
PRODID:-//ChamberMaster//Event Calendar 2.0//EN
METHOD:PUBLISH
X-PUBLISHED-TTL:P3D
REFRESH-INTERVAL:P3D
CALSCALE:GREGORIAN
BEGIN:VEVENT
DTSTART:20200409T220000Z
DTEND:20200409T230000Z
X-MICROSOFT-CDO-ALLDAYEVENT:FALSE
SUMMARY:Online! Education Committee
DESCRIPTION:Education Committee will be conducted online!  Please email Kathy Stevens if you intend to attend and we will get login information to you.\n\n\n\nThe Education Committee builds bridges between businesses and the education community to create an empowered and dynamic future workforce. Help make business connections with the St. Vrain Valley School District\, Front Range Community College and other Chamber-member schools to build the business leaders of tomorrow.
X-ALT-DESC;FMTTYPE=text/html:<span style="font-size:12px\;"><span style="color: rgb(0\, 0\, 0)\; font-family: Verdana\;">Education Committee will be conducted online!&nbsp\; Please email Kathy Stevens if you intend to attend and we will get login information to you.<br />\n<br />\nThe Education Committee builds bridges between businesses and the education community to create an empowered and dynamic future workforce. Help make business connections with the St. Vrain Valley School District\, Front Range Community College and other Chamber-member schools to build the business leaders of tomorrow.</span></span>
LOCATION:Longmont Area Chamber of Commerce Conference Room 528 Main Street Longmont
UID:e.3083.7374
SEQUENCE:3
DTSTAMP:20260425T154216Z
URL:https://members.longmontchamber.org/events/details/online-education-committee-7374
END:VEVENT

END:VCALENDAR
