BEGIN:VCALENDAR
VERSION:2.0
PRODID:-//ChamberMaster//Event Calendar 2.0//EN
METHOD:PUBLISH
X-PUBLISHED-TTL:P3D
REFRESH-INTERVAL:P3D
CALSCALE:GREGORIAN
BEGIN:VEVENT
DTSTART:20250823T160000Z
DTEND:20250823T190000Z
X-MICROSOFT-CDO-ALLDAYEVENT:FALSE
SUMMARY:Open House 4 Families w/School Aged Kids - Lots of FREE Resources & Demonstrations
DESCRIPTION:Families of school aged students: Join us for FREE educational resources & demonstrations. Whether you homeschool or go to public schools\, we'll have lots of educational (and fun) organizations sharing their expertise. Please pass the word for this engaging & open house for anyone in Boulder County. See you there!
X-ALT-DESC;FMTTYPE=text/html:<br />\n<span style="font-size:22px\;">Families of school aged students: Join us for FREE educational resources &amp\; demonstrations. Whether you homeschool or go to public schools\, we&#39\;ll have lots of educational (and fun) organizations sharing their expertise. Please pass the word for this engaging &amp\; open house for anyone in Boulder County. See you there!</span>
LOCATION:The Junction
UID:e.3083.14214
SEQUENCE:3
DTSTAMP:20260421T100011Z
URL:https://members.longmontchamber.org/events/details/open-house-4-families-w-school-aged-kids-lots-of-free-resources-demonstrations-14214
END:VEVENT

END:VCALENDAR
