BEGIN:VCALENDAR
VERSION:2.0
PRODID:-//ChamberMaster//Event Calendar 2.0//EN
METHOD:PUBLISH
X-PUBLISHED-TTL:P3D
REFRESH-INTERVAL:P3D
CALSCALE:GREGORIAN
BEGIN:VEVENT
DTSTART:20250215T200000Z
DTEND:20250216T000000Z
X-MICROSOFT-CDO-ALLDAYEVENT:FALSE
SUMMARY:Open House - Arrive Longmont
DESCRIPTION:Open House at Arrive Longmont!
X-ALT-DESC;FMTTYPE=text/html:<br />\n<br />\n<span style="font-size:20px\;">Open House at Arrive Longmont!</span>
LOCATION:
UID:e.3083.10914
SEQUENCE:3
DTSTAMP:20260421T172830Z
URL:https://members.longmontchamber.org/events/details/open-house-arrive-longmont-10914
END:VEVENT

END:VCALENDAR
