BEGIN:VCALENDAR
VERSION:2.0
PRODID:-//ChamberMaster//Event Calendar 2.0//EN
METHOD:PUBLISH
X-PUBLISHED-TTL:P3D
REFRESH-INTERVAL:P3D
CALSCALE:GREGORIAN
BEGIN:VEVENT
DTSTART:20250518T200000Z
DTEND:20250518T220000Z
X-MICROSOFT-CDO-ALLDAYEVENT:FALSE
SUMMARY:Open Mic with Antonio Lopez
DESCRIPTION:Join us for an intimate Open Mic Night at Butterscotch Studios\, hosted by the talented Antonio Lopez!\n\n\n\nWhether you're a musician\, poet\, or storyteller\, this is your chance to share your art in a warm and welcoming space.\n\nCome perform\, listen\, and connect with our creative community.\n\nSign up at the Door.
X-ALT-DESC;FMTTYPE=text/html:<br />\n<span style="color:rgb(78\, 56\, 21)\; font-family:avenir-lt-w01_85-heavy1475544\,sans-serif\; font-size:16px"><span style="font-size:22px">Join us for an intimate Open Mic Night at Butterscotch Studios\, hosted by the talented Antonio Lopez!<br />\n<br />\nWhether you&#39\;re a musician\, poet\, or storyteller\, this is your chance to share your art in a warm and welcoming space.<br />\nCome perform\, listen\, and connect with our creative community.<br />\nSign up at the Door.</span></span>
LOCATION:Butterscotch Studios
UID:e.3083.13316
SEQUENCE:3
DTSTAMP:20260421T143001Z
URL:https://members.longmontchamber.org/events/details/open-mic-with-antonio-lopez-05-18-2025-13316
END:VEVENT

END:VCALENDAR
