BEGIN:VCALENDAR
VERSION:2.0
PRODID:-//ChamberMaster//Event Calendar 2.0//EN
METHOD:PUBLISH
X-PUBLISHED-TTL:P3D
REFRESH-INTERVAL:P3D
CALSCALE:GREGORIAN
BEGIN:VEVENT
DTSTART:20230913T000000Z
DTEND:20230913T033000Z
X-MICROSOFT-CDO-ALLDAYEVENT:FALSE
SUMMARY:Open Stage Night at The Times Collaborative
DESCRIPTION:Welcome all performance acts to the Open Stage!\n\nA showcase of local performing talent brings an evening of entertainment to Longmont audiences. Chef Devin of Rising Tiger provides seasonally inspired bento boxes for purchase. The Times Collaborative provides themed cocktails + mocktails at the cash bar. Soundpost brings their audio expertise for a quality show. You bring the talent: comedy\, music\, storytelling\, singing\, dancing\, poetry\, puppet shows.  In partnership with  Longmont Art Week.\n\nDoors open at 6:00pm\, show begins at 6:30pm.\n\nTickets are $15 advance.  All ages welcome (be advised there may be adult content). \n\nInterested in performing? Pre-registration required. Performing participants receive free admission plus voucher for one free beer\, wine\, or soda.\n\nThe Open Stage is brought to you by Longmont Out Loud (LOL)\, bringing highly collaborative entertainment to the greater Longmont area.
X-ALT-DESC;FMTTYPE=text/html:<p><strong>Welcome all performance acts to the Open Stage!</strong></p>\n\n<p>A showcase of local performing talent brings an evening of entertainment to Longmont audiences. Chef Devin of <a href="https://risingtigerco.com/"><span style="color:rgb(220\, 161\, 13)">Rising Tiger</span></a> provides seasonally inspired bento boxes for purchase. <a href="http://www.thetimesco.com"><span style="color:rgb(220\, 161\, 13)">The Times Collaborative</span></a> provides themed cocktails + mocktails at the cash bar. Soundpost brings their audio expertise for a quality show. You bring the talent: comedy\, music\, storytelling\, singing\, dancing\, poetry\, puppet shows.&nbsp\; In partnership with &nbsp\;<a href="https://www.downtownlongmont.com/creative-district/events/longmont-arts-week"><span style="color:rgb(220\, 161\, 13)">Longmont Art Week</span></a>.</p>\n\n<p><strong>Doors open at 6:00pm\, show begins at 6:30pm.</strong></p>\n\n<p><span style="color:rgb(220\, 161\, 13)"><a href="https://www.longmontoutloud.com/buytickets">Tickets are $15 advance</a></span>.&nbsp\; All ages welcome (be advised there may be adult content).&nbsp\;</p>\n\n<p>Interested in performing?&nbsp\;<a href="https://www.longmontoutloud.com/openstage"><span style="color:rgb(220\, 161\, 13)">Pre-registration required</span></a>. Performing participants receive free admission plus voucher for one free beer\, wine\, or soda.</p>\n\n<p>The Open Stage is brought to you by&nbsp\;<a href="https://www.longmontoutloud.com/"><span style="color:rgb(220\, 161\, 13)">Longmont Out Loud (LOL)</span></a>\, bringing highly collaborative entertainment to the greater Longmont area.</p>\n
LOCATION:The Times Collaborative 338 Main Street Longmont\, CO
UID:e.3083.9943
SEQUENCE:3
DTSTAMP:20260422T214835Z
URL:https://members.longmontchamber.org/events/details/open-stage-night-at-the-times-collaborative-9943
END:VEVENT

END:VCALENDAR
