BEGIN:VCALENDAR
VERSION:2.0
PRODID:-//ChamberMaster//Event Calendar 2.0//EN
METHOD:PUBLISH
X-PUBLISHED-TTL:P3D
REFRESH-INTERVAL:P3D
CALSCALE:GREGORIAN
BEGIN:VEVENT
DTSTART:20241207T170000Z
DTEND:20241207T220000Z
X-MICROSOFT-CDO-ALLDAYEVENT:FALSE
SUMMARY:Paw Print Ornaments
DESCRIPTION:Let's Make Paw Print Ornaments! \n\nWe're Excited to be partnering with Dee-O-Gee again for a paw-some day of fun! You bring the doggy\, and we'll capture the print\, hand-paint\, their name\, and the year for you. All ornaments will be glazed and fired at Crackpots' studio and ready for pick up 1 week after the event.  Your finished ornament will be a lasting heirloom your family will cherish forever! Special treats and offers from our friends at MECO Coffee\, 99 Bar & Saloon\, Jefe's\, and the Roost.
X-ALT-DESC;FMTTYPE=text/html:<strong>Let&#39\;s Make Paw Print Ornaments!&nbsp\;</strong><br />\nWe&#39\;re Excited to be partnering with Dee-O-Gee again for a paw-some day of fun! You bring the doggy\, and we&#39\;ll capture the print\, hand-paint\, their name\, and the year for you. All ornaments will be glazed and fired at Crackpots&#39\; studio and ready for pick up 1 week after the event.&nbsp\; Your finished ornament will be a lasting heirloom your family will cherish forever! Special treats and offers from our friends at MECO Coffee\, 99 Bar &amp\; Saloon\, Jefe&#39\;s\, and the Roost.
LOCATION:110 Emery St\, Longmont\, CO 80501
UID:e.3083.10288
SEQUENCE:3
DTSTAMP:20260421T204256Z
URL:https://members.longmontchamber.org/events/details/paw-print-ornaments-12-07-2024-10288
END:VEVENT

END:VCALENDAR
