BEGIN:VCALENDAR
VERSION:2.0
PRODID:-//ChamberMaster//Event Calendar 2.0//EN
METHOD:PUBLISH
X-PUBLISHED-TTL:P3D
REFRESH-INTERVAL:P3D
CALSCALE:GREGORIAN
BEGIN:VEVENT
DTSTART:20210717T160000Z
DTEND:20210717T200000Z
X-MICROSOFT-CDO-ALLDAYEVENT:FALSE
SUMMARY:Pearle Vision Trunk Sale
DESCRIPTION:Come join us! One day only Silhouette Trunk show! Showing all the latest design from Austrian Designer Silhouette!\n\n*40% off Silhouette frames with prescription lens purchase\n\n*can not be combined with vision insurance benefits
X-ALT-DESC;FMTTYPE=text/html:<span style="font-size:18px"><span style="font-family:comic sans ms">Come join us! One day only Silhouette Trunk show! Showing all the latest design from Austrian Designer Silhouette!</span></span><br />\n*40% off Silhouette frames with prescription lens purchase<br />\n*can not be combined with vision insurance benefits<br />\n&nbsp\;
LOCATION:180 Ken Pratt Blvd Suite 200 Longmont\, Co 80501 (next to Kirkland's)
UID:e.3083.8465
SEQUENCE:3
DTSTAMP:20260424T135953Z
URL:https://members.longmontchamber.org/events/details/pearle-vision-trunk-sale-8465
END:VEVENT

END:VCALENDAR
