BEGIN:VCALENDAR
VERSION:2.0
PRODID:-//ChamberMaster//Event Calendar 2.0//EN
METHOD:PUBLISH
X-PUBLISHED-TTL:P3D
REFRESH-INTERVAL:P3D
CALSCALE:GREGORIAN
BEGIN:VEVENT
DTSTART:20220929T003000Z
DTEND:20220929T020000Z
X-MICROSOFT-CDO-ALLDAYEVENT:FALSE
SUMMARY:PEN's Virtual Kickoff--Dignity as an Anchor for Parenting
DESCRIPTION:Hear nationally-recognized speaker Nya Abernathy deliver a powerful presentation focused on dignity as a reality and element of intentional parenting. Some key points of her talk include:\n\n\n	Dignity will be defined and offered as an anchor in your parenting\n	The ease of parenting from a default\, or parenting without a centering intention\n	The journey of parenting with a centering intention\, including discovery and wonder\n	The role of fear & compliance within the parent/child relationship\n	The role of hope & heart-fullness in the parent/child relationship\n	The evolution of the parenting relationship with and dignity as a centering intention\n	What to expect from yourself\, what to hope for your child
X-ALT-DESC;FMTTYPE=text/html:<p>Hear nationally-recognized speaker Nya Abernathy deliver a powerful presentation focused on dignity as a reality and element of intentional parenting. Some key points of her talk include:</p>\n\n<ul>\n	<li>Dignity will be defined and offered as an anchor in your parenting</li>\n	<li>The ease of parenting from a default\, or parenting without a centering intention</li>\n	<li>The journey of parenting with a centering intention\, including discovery and wonder</li>\n	<li>The role of fear &amp\; compliance within the parent/child relationship</li>\n	<li>The role of hope &amp\; heart-fullness in the parent/child relationship</li>\n	<li>The evolution of the parenting relationship with and dignity as a centering intention</li>\n	<li>What to expect from yourself\, what to hope for your child</li>\n</ul>\n
LOCATION:Virtual
UID:e.3083.9103
SEQUENCE:3
DTSTAMP:20260423T161856Z
URL:https://members.longmontchamber.org/events/details/pen-s-virtual-kickoff-dignity-as-an-anchor-for-parenting-9103
END:VEVENT

END:VCALENDAR
