BEGIN:VCALENDAR
VERSION:2.0
PRODID:-//ChamberMaster//Event Calendar 2.0//EN
METHOD:PUBLISH
X-PUBLISHED-TTL:P3D
REFRESH-INTERVAL:P3D
CALSCALE:GREGORIAN
BEGIN:VEVENT
DTSTART:20220617T160000Z
DTEND:20220617T200000Z
X-MICROSOFT-CDO-ALLDAYEVENT:FALSE
SUMMARY:Pet Food Drive @ High Country Bank
DESCRIPTION:High Country Bank is hosting a pet food drive to support the Longmont Humane Society.  HCB will donate $1 for every pound of pet food collected up to $500.00.  Please stop by 110 Main Street on 6/17 with your donations!
X-ALT-DESC;FMTTYPE=text/html:High Country Bank is hosting a pet food drive to support the Longmont Humane Society.&nbsp\; HCB will donate $1 for every pound of pet food collected up to $500.00.&nbsp\; Please stop by 110 Main Street on 6/17 with your donations!&nbsp\;&nbsp\;
LOCATION:High Country Bank 110 Main Street Longmont
UID:e.3083.8692
SEQUENCE:3
DTSTAMP:20260423T222101Z
URL:https://members.longmontchamber.org/events/details/pet-food-drive-8692
END:VEVENT

END:VCALENDAR
