BEGIN:VCALENDAR
VERSION:2.0
PRODID:-//ChamberMaster//Event Calendar 2.0//EN
METHOD:PUBLISH
X-PUBLISHED-TTL:P3D
REFRESH-INTERVAL:P3D
CALSCALE:GREGORIAN
BEGIN:VEVENT
DTSTART:20250810T140000Z
DTEND:20250810T150000Z
X-MICROSOFT-CDO-ALLDAYEVENT:FALSE
SUMMARY:Pilates with a View
DESCRIPTION:Start your Sunday with a feel-good mat Pilates class surrounded by mountain views and fresh air.\n\nFrom 8 9am\, we'll flow through a full-body Pilates sequence designed to strengthen your core\, improve posture\, and leave you feeling energized. Don't forget to bring your mat!\n\nStick around after class to soak in the view\, enjoy light refreshments\, and connect with neighbors and new friends.\n\nCome for the view\, stay for the community.\n\nBeginners welcome. Ages 16+. Restrooms on site.
X-ALT-DESC;FMTTYPE=text/html:<p><br />\n<span style="font-size:20px\;">Start your Sunday with a feel-good mat Pilates class surrounded by mountain views and fresh air.</span></p>\n\n<p><span style="font-size:20px\;">From 8&ndash\;9am\, we&rsquo\;ll flow through a full-body Pilates sequence designed to strengthen your core\, improve posture\, and leave you feeling energized. Don&#39\;t forget to bring your mat!</span></p>\n\n<p><span style="font-size:20px\;">Stick around after class to soak in the view\, enjoy light refreshments\, and connect with neighbors and new friends.</span></p>\n\n<p><span style="font-size:20px\;">Come for the view\, stay for the community.</span></p>\n\n<p><span style="font-size:20px\;">Beginners welcome. Ages 16+. Restrooms on site.</span></p>\n
LOCATION:Sparrow Hawk Ranch
UID:e.3083.13542
SEQUENCE:3
DTSTAMP:20260421T081702Z
URL:https://members.longmontchamber.org/events/details/pilates-with-a-view-08-10-2025-13542
END:VEVENT

END:VCALENDAR
