BEGIN:VCALENDAR
VERSION:2.0
PRODID:-//ChamberMaster//Event Calendar 2.0//EN
METHOD:PUBLISH
X-PUBLISHED-TTL:P3D
REFRESH-INTERVAL:P3D
CALSCALE:GREGORIAN
BEGIN:VEVENT
DTSTART;VALUE=DATE:20240901
DTEND;VALUE=DATE:20240902
TRANSP:TRANSPARENT
X-MICROSOFT-CDO-ALLDAYEVENT:TRUE
SUMMARY:Pilates with a View
DESCRIPTION:Pilates with a View.\n\nCome for the view\, stay for community. \n\nEvery Sunday through Labor Day. \n\nJoin us for a one-hour mat class.\n\nAfterwards\, feel free to hangout and enjoy the view. We'll have light refreshments.\n\nBeginners and all levels are welcome. You must be at least 16 years of age.
X-ALT-DESC;FMTTYPE=text/html:Pilates with a View.<br />\nCome for the view\, stay for community.&nbsp\;<br />\nEvery Sunday through Labor Day.&nbsp\;<br />\nJoin us for a one-hour mat class.<br />\nAfterwards\, feel free to hangout and enjoy the view. We&#39\;ll have light refreshments.<br />\n<em>Beginners and all levels are welcome. You must be at least 16 years of age.</em>\n<div>\n<div>&nbsp\;</div>\n</div>\n\n<div>&nbsp\;</div>\n
LOCATION:Sparrow Hawk Ranch 14937 E County Line Road Longmont\, CO 80504
UID:e.3083.10165
SEQUENCE:3
DTSTAMP:20260422T013542Z
URL:https://members.longmontchamber.org/events/details/pilates-with-a-view-09-01-2024-10165
END:VEVENT

END:VCALENDAR
