BEGIN:VCALENDAR
VERSION:2.0
PRODID:-//ChamberMaster//Event Calendar 2.0//EN
METHOD:PUBLISH
X-PUBLISHED-TTL:P3D
REFRESH-INTERVAL:P3D
CALSCALE:GREGORIAN
BEGIN:VEVENT
DTSTART:20231114T013000Z
DTEND:20231114T023000Z
X-MICROSOFT-CDO-ALLDAYEVENT:FALSE
SUMMARY:Platte River Power Authority 2024 Integrated Resource Plan Community Engagement Session
DESCRIPTION:Platte River Power Authority\, Longmont's wholesale power provider\, will visit the Longmont Museum Nov. 13 to discuss its 2024 Integrated Resource Plan (IRP)\, its "road map" for the future of the region's electric generation.\n\n\n\nThe community engagement session will start at 6:30 p.m. Nov. 13 at the Longmont Museum\, 400 Quail Road. Platte River   which is co-owned by the communities of Longmont\, Loveland\, Estes Park and Fort Collins   will provide an update on the resource planning process. All Longmont residents are invited to attend to ask questions and engage with Platte River's resource planning and external affairs teams as they continue to develop the 2024 Integrated Resource Plan.\n\n\n\nClick here to read the full press release from Longmont Power & Communications:\n\nPlatte River to share energy resource planning update: Wholesale electric provider to give update on 2024 resource "road map"
X-ALT-DESC;FMTTYPE=text/html:Platte River Power Authority\, Longmont&rsquo\;s wholesale power provider\, will visit the Longmont Museum Nov. 13 to discuss its 2024 Integrated Resource Plan (IRP)\, its &ldquo\;road map&rdquo\; for the future of the region&rsquo\;s electric generation.<br />\n<br />\nThe community engagement session will start at 6:30 p.m. Nov. 13 at the Longmont Museum\, 400 Quail Road. Platte River &ndash\; which is co-owned by the communities of Longmont\, Loveland\, Estes Park and Fort Collins &ndash\; will provide an update on the resource planning process. All Longmont residents are invited to attend to ask questions and engage with Platte River&rsquo\;s resource planning and external affairs teams as they continue to develop the 2024 Integrated Resource Plan.<br />\n<br />\nClick here to read the full press release from Longmont Power &amp\; Communications:<br />\n<strong><a href="https://www.longmontcolorado.gov/Home/Components/News/News/12929/661"><em>Platte River to share energy resource planning update: Wholesale electric provider to give update on 2024 resource &ldquo\;road map&rdquo\;&nbsp\;</em></a></strong>
LOCATION:Longmont Museum 400 Quail Road Longmont CO 80501
UID:e.3083.9968
SEQUENCE:3
DTSTAMP:20260422T183117Z
URL:https://members.longmontchamber.org/events/details/platte-river-power-authority-2024-integrated-resource-plan-community-engagement-session-9968
END:VEVENT

END:VCALENDAR
