BEGIN:VCALENDAR
VERSION:2.0
PRODID:-//ChamberMaster//Event Calendar 2.0//EN
METHOD:PUBLISH
X-PUBLISHED-TTL:P3D
REFRESH-INTERVAL:P3D
CALSCALE:GREGORIAN
BEGIN:VEVENT
DTSTART:20220430T180000Z
DTEND:20220430T210000Z
X-MICROSOFT-CDO-ALLDAYEVENT:FALSE
SUMMARY:Pop-Up Cat Cafe with NoCo Cat Cafe & The Times Collaborative
DESCRIPTION:NoCo Cat Cafe is hosting a pop-up cat cafe! Join us  from 12-3 for a relaxing afternoon with adoptable cats and kittens. $12 gets you in the door with light snacks available. You can purchase tickets for a 12pm or 1pm entrance here. Space is limited.  Drinks available for purchase- enjoy a meowmosa while snuggling a kitten.
X-ALT-DESC;FMTTYPE=text/html:<span style="color:rgb(41\, 43\, 44)\; font-family:source sans pro\,helvetica neue\,helvetica\,arial\,sans-serif\; font-size:14px">NoCo Cat Cafe is hosting a pop-up cat cafe! Join us &nbsp\;from 12-3 for a relaxing afternoon with adoptable cats and kittens. $12 gets you in the door with light snacks available. You can purchase tickets for a 12pm or 1pm entrance&nbsp\;</span><a href="https://thetimesco.us6.list-manage.com/track/click?u=017f00a3b80291da8eddc46f5&amp\;id=825db6fe5c&amp\;e=8f7ecb7fec" style="box-sizing: inherit\; text-decoration-skip: objects\; text-decoration: none\; color: rgb(67\, 67\, 65)\; touch-action: manipulation\; font-family: &quot\;Source Sans Pro&quot\;\, &quot\;Helvetica Neue&quot\;\, Helvetica\, Arial\, sans-serif\; font-size: 14px\;" target="_blank">here</a><span style="color:rgb(41\, 43\, 44)\; font-family:source sans pro\,helvetica neue\,helvetica\,arial\,sans-serif\; font-size:14px">. Space is limited.&nbsp\; Drinks available for purchase- enjoy a meowmosa while snuggling a kitten.&nbsp\;</span>
LOCATION:The Times Collaborative 338 Main St. Longmont\, CO 80501
UID:e.3083.8679
SEQUENCE:3
DTSTAMP:20260424T000231Z
URL:https://members.longmontchamber.org/events/details/pop-up-cat-cafe-with-noco-cat-cafe-the-times-collaborative-8679
END:VEVENT

END:VCALENDAR
