BEGIN:VCALENDAR
VERSION:2.0
PRODID:-//ChamberMaster//Event Calendar 2.0//EN
METHOD:PUBLISH
X-PUBLISHED-TTL:P3D
REFRESH-INTERVAL:P3D
CALSCALE:GREGORIAN
BEGIN:VEVENT
DTSTART:20250927T160000Z
DTEND:20250927T173000Z
X-MICROSOFT-CDO-ALLDAYEVENT:FALSE
SUMMARY:Practical Anxiety Management
DESCRIPTION:Come for easy\, practical ways to manage anxiety and the things that cause it!  Make your own EO roll-on\, have some light refreshments.
X-ALT-DESC;FMTTYPE=text/html:<br />\n<span style="font-size:18px\;">Come for easy\, practical ways to manage anxiety and the things that cause it!&nbsp\; Make your own EO roll-on\, have some light refreshments.&nbsp\;</span>
LOCATION:
UID:e.3083.14454
SEQUENCE:3
DTSTAMP:20260421T063735Z
URL:https://members.longmontchamber.org/events/details/practical-anxiety-management-14454
END:VEVENT

END:VCALENDAR
