BEGIN:VCALENDAR
VERSION:2.0
PRODID:-//ChamberMaster//Event Calendar 2.0//EN
METHOD:PUBLISH
X-PUBLISHED-TTL:P3D
REFRESH-INTERVAL:P3D
CALSCALE:GREGORIAN
BEGIN:VEVENT
DTSTART:20241109T011500Z
DTEND:20241109T033000Z
X-MICROSOFT-CDO-ALLDAYEVENT:FALSE
SUMMARY:Professional Musical Performance at Callahan House
DESCRIPTION:Join us for an evening of salon style musical entertainment as the Victorians did. Enjoy a professional performance by accomplished musicians\; pianist Dr. Maria Kurchevskaya Currey and cellist Dr. Katarina Majcen Pliego. Light refreshments will be served before the performance with a musician's reception to follow. \n\n\n\nGeneral Admission seating. Each attendee must be registered - visit website link to register. Doors will not be open before 6:15pm. Performance begins at 7:00pm.\n\n\n\nAges 10 and up.\n\n\n\nFee: $40 resident\, $50 non-resident
X-ALT-DESC;FMTTYPE=text/html:Join us for an evening of salon style musical entertainment as the Victorians did. Enjoy a professional performance by accomplished musicians\; pianist Dr. <span style="color:#101820">Maria Kurchevskaya Currey and cellist Dr. </span><span style="color:#0D0D0D">Katarina Majcen Pliego. Light refreshments will be served before the performance with a musician&rsquo\;s reception to follow. </span><br />\n<br />\nGeneral Admission seating. <strong>Each attendee must be registered - visit website link to register.</strong>&nbsp\;Doors will not be open before 6:15pm. Performance begins at 7:00pm.<br />\n<br />\nAges 10 and up.<br />\n<br />\nFee: $40 resident\, $50 non-resident
LOCATION:Callahan House
UID:e.3083.10238
SEQUENCE:3
DTSTAMP:20260421T223329Z
URL:https://members.longmontchamber.org/events/details/professional-musical-performance-at-callahan-house-10238
END:VEVENT

END:VCALENDAR
