BEGIN:VCALENDAR
VERSION:2.0
PRODID:-//ChamberMaster//Event Calendar 2.0//EN
METHOD:PUBLISH
X-PUBLISHED-TTL:P3D
REFRESH-INTERVAL:P3D
CALSCALE:GREGORIAN
BEGIN:VEVENT
DTSTART:20210402T134500Z
DTEND:20210402T151500Z
X-MICROSOFT-CDO-ALLDAYEVENT:FALSE
SUMMARY:Public Policy Committee
DESCRIPTION:The Chamber advocates for business. It is a steward to affect positive change influencing public policy and economic sustainability\, helping to shape the community.\n\nPublic Policy meets monthly and holds ongoing educational forums for members and non-members to attend to learn about key issues that affect business.\n\nRepresentatives Tracey Bernett and Karen McCormick will join us for the April 2 Meeting.
X-ALT-DESC;FMTTYPE=text/html:<p>The Chamber advocates for business. It is a steward to affect positive change influencing public policy and economic sustainability\, helping to shape the community.</p>\n\n<p>Public Policy meets monthly and holds ongoing educational forums for members and non-members to attend to learn about key issues that affect business.<br />\nRepresentatives Tracey Bernett and Karen McCormick will join us for the April 2 Meeting.</p>\n
LOCATION:Currently meeting virtually.
UID:e.3083.3668
SEQUENCE:3
DTSTAMP:20260424T185628Z
URL:https://members.longmontchamber.org/events/details/public-policy-04-02-2021-3668
END:VEVENT

END:VCALENDAR
