BEGIN:VCALENDAR
VERSION:2.0
PRODID:-//ChamberMaster//Event Calendar 2.0//EN
METHOD:PUBLISH
X-PUBLISHED-TTL:P3D
REFRESH-INTERVAL:P3D
CALSCALE:GREGORIAN
BEGIN:VEVENT
DTSTART:20200410T143000Z
DTEND:20200410T153000Z
X-MICROSOFT-CDO-ALLDAYEVENT:FALSE
SUMMARY:Public Policy
DESCRIPTION:The Chamber advocates for business. It is a steward to affect positive change influencing public policy and economic sustainability\, helping to shape the community.\n\nPublic Policy meets monthly and holds ongoing educational forums for members and non-members to attend to learn about key issues that effect business.
X-ALT-DESC;FMTTYPE=text/html:<span style="font-size:12px\;"><span style="color: rgb(0\, 0\, 0)\; font-family: Verdana\;">The Chamber advocates for business. It is a steward to affect positive change influencing public policy and economic sustainability\, helping to shape the community.<br />\nPublic Policy meets monthly and holds ongoing educational forums for members and non-members to attend to learn about key issues that effect business.</span></span>
LOCATION:This meeting will be hosted on Zoom. For meeting info please contact Scott Cook: scook@longmontchamber.org
UID:e.3083.3656
SEQUENCE:3
DTSTAMP:20260425T152621Z
URL:https://members.longmontchamber.org/events/details/public-policy-04-03-2020-3656
END:VEVENT

END:VCALENDAR
