BEGIN:VCALENDAR
VERSION:2.0
PRODID:-//ChamberMaster//Event Calendar 2.0//EN
METHOD:PUBLISH
X-PUBLISHED-TTL:P3D
REFRESH-INTERVAL:P3D
CALSCALE:GREGORIAN
BEGIN:VEVENT
DTSTART:20210507T140000Z
DTEND:20210507T150000Z
X-MICROSOFT-CDO-ALLDAYEVENT:FALSE
SUMMARY:Public Policy Committee
DESCRIPTION:As of May 3\, we are transitioning to in-person and hybrid committee meetings. Committee meetings held at the Longmont Chamber will accommodate a limited number of people\, and virtual registration is still available. Please be aware of the following safety precautions before you arrive:\n\n\n	Capacity for this event is capped at 7. Members must register in advance to attend.\n	Be sure to bring a mask\, regardless of whether or not you have received a full dose of a COVID-19 vaccine.\n\n\nPlease note that when you register for this event\, you will be asked whether or not you have received a full course of a COVID-19 vaccine (two shots of either Pfizer or Moderna\, one shot of Johnson & Johnson). This information will help us be more inclusive of our more cautious members who would like to engage in chamber activities. We will not exclude members based on their vaccine status. You can decline to answer. If you have any questions\, please contact Longmont Chamber CEO Scott Cook at scook@longmontchamber.org.\n\n\n\nThank you for your support in creating a safe gathering!\n\n \n\nAbout Public Policy\n\nThe Chamber advocates for business. It is a steward to affect positive change influencing public policy and economic sustainability\, helping to shape the community.\n\nPublic Policy meets monthly and holds ongoing educational forums for members and non-members to attend to learn about key issues that affect business.
X-ALT-DESC;FMTTYPE=text/html:<p>As of May 3\, we are transitioning to in-person and hybrid committee meetings. Committee meetings held at the Longmont Chamber will accommodate a limited number of people\, and virtual registration is still available. Please be aware of the following safety precautions before you arrive:</p>\n\n<ul>\n	<li><strong>Capacity for this event is capped at 7.&nbsp\;</strong>Members must register in advance to attend.</li>\n	<li><strong>Be sure to bring a mask</strong>\, regardless of whether or not you have received a full dose of a COVID-19 vaccine.</li>\n</ul>\n\n<p><strong>Please note that when you register for this event\, you will be asked whether or not you have received a full course of a COVID-19 vaccine</strong>&nbsp\;(two shots of either Pfizer or Moderna\, one shot of Johnson &amp\; Johnson). This information will help us be more inclusive of our more cautious members who would like to engage in chamber activities.&nbsp\;We will not exclude members based on their vaccine status.&nbsp\;You can decline to answer. If you have any questions\, please contact Longmont Chamber CEO Scott Cook at&nbsp\;<a href="mailto:scook@longmontchamber.org">scook@longmontchamber.org</a>.<br />\n<br />\nThank you for your support in creating a safe gathering!</p>\n\n<p>&nbsp\;</p>\n\n<h4>About Public Policy</h4>\n\n<p>The Chamber advocates for business. It is a steward to affect positive change influencing public policy and economic sustainability\, helping to shape the community.</p>\n\n<p>Public Policy meets monthly and holds ongoing educational forums for members and non-members to attend to learn about key issues that affect business.</p>\n
LOCATION:Hybrid event. Must register to attend in-person. Longmont Area Chamber of Commerce Conference Room 528 Main Street Longmont
UID:e.3083.3669
SEQUENCE:3
DTSTAMP:20260424T171801Z
URL:https://members.longmontchamber.org/events/details/public-policy-05-07-2021-3669
END:VEVENT

END:VCALENDAR
