BEGIN:VCALENDAR
VERSION:2.0
PRODID:-//ChamberMaster//Event Calendar 2.0//EN
METHOD:PUBLISH
X-PUBLISHED-TTL:P3D
REFRESH-INTERVAL:P3D
CALSCALE:GREGORIAN
BEGIN:VEVENT
DTSTART:20230818T140000Z
DTEND:20230818T150000Z
X-MICROSOFT-CDO-ALLDAYEVENT:FALSE
SUMMARY:Public Policy Committee
DESCRIPTION:Friday August 18th will be a special Public Policy meeting with a presentation from Assistant City Manager Sandi Seader presenting on a number of City of Longmont projects that will be on the ballot this fall. \n\n \n\nThe Chamber advocates for business. It is a steward to affect positive change influencing public policy and economic sustainability\, helping to shape the community.\n\nPublic Policy meets monthly and holds ongoing educational forums for members and non-members to attend to learn about key issues that affect business.
X-ALT-DESC;FMTTYPE=text/html:<p>Friday August 18th will be a special Public Policy meeting with a presentation from Assistant City Manager Sandi Seader presenting on a number of City of Longmont projects that will be on the ballot this fall.&nbsp\;</p>\n\n<p>&nbsp\;</p>\n\n<p>The Chamber advocates for business. It is a steward to affect positive change influencing public policy and economic sustainability\, helping to shape the community.</p>\n\n<p>Public Policy meets monthly and holds ongoing educational forums for members and non-members to attend to learn about key issues that affect business.</p>\n
LOCATION:Currently meeting hybrid. In-person in the Longmont Chamber conference room or via Zoom.
UID:e.3083.3696
SEQUENCE:3
DTSTAMP:20260422T231524Z
URL:https://members.longmontchamber.org/events/details/public-policy-08-04-2023-3696
END:VEVENT

END:VCALENDAR
