BEGIN:VCALENDAR
VERSION:2.0
PRODID:-//ChamberMaster//Event Calendar 2.0//EN
METHOD:PUBLISH
X-PUBLISHED-TTL:P3D
REFRESH-INTERVAL:P3D
CALSCALE:GREGORIAN
BEGIN:VEVENT
DTSTART:20210903T140000Z
DTEND:20210903T150000Z
X-MICROSOFT-CDO-ALLDAYEVENT:FALSE
SUMMARY:Public Policy Committee
DESCRIPTION:The Chamber advocates for business. It is a steward to affect positive change influencing public policy and economic sustainability\, helping to shape the community.\n\nPublic Policy meets monthly and holds ongoing educational forums for members and non-members to attend to learn about key issues that affect business.\n\nThe September meeting will feature City Manager\, Harold Dominguez. Harold will give an update on the City's Covid response and future transportation plans around the City of Longmont.
X-ALT-DESC;FMTTYPE=text/html:<p>The Chamber advocates for business. It is a steward to affect positive change influencing public policy and economic sustainability\, helping to shape the community.</p>\n\n<p>Public Policy meets monthly and holds ongoing educational forums for members and non-members to attend to learn about key issues that affect business.<br />\nThe September meeting will feature City Manager\, Harold Dominguez. Harold will give an update on the City&#39\;s Covid response and future transportation plans around the City of Longmont.<br />\n&nbsp\;</p>\n
LOCATION:In person or zoom.
UID:e.3083.3673
SEQUENCE:3
DTSTAMP:20260424T110008Z
URL:https://members.longmontchamber.org/events/details/public-policy-09-03-2021-3673
END:VEVENT

END:VCALENDAR
