BEGIN:VCALENDAR
VERSION:2.0
PRODID:-//ChamberMaster//Event Calendar 2.0//EN
METHOD:PUBLISH
X-PUBLISHED-TTL:P3D
REFRESH-INTERVAL:P3D
CALSCALE:GREGORIAN
BEGIN:VEVENT
DTSTART:20191004T140000Z
DTEND:20191004T150000Z
X-MICROSOFT-CDO-ALLDAYEVENT:FALSE
SUMMARY:Public Policy
DESCRIPTION:The Chamber advocates for business. It is a steward to affect positive change influencing public policy and economic sustainability\, helping to shape the community.\n\nPublic Policy meets monthly and holds ongoing educational forums for members and non-members to attend to learn about key issues that effect business.\n\nDuring the October 4 meeting\, policy members and guests will hear presentations on city ballot questions concerning the Aquatic/Ice Rink Center and the Streets Tax.
X-ALT-DESC;FMTTYPE=text/html:<span style="font-size:12px\;"><span style="color: rgb(0\, 0\, 0)\; font-family: Verdana\;">The Chamber advocates for business. It is a steward to affect positive change influencing public policy and economic sustainability\, helping to shape the community.<br />\nPublic Policy meets monthly and holds ongoing educational forums for members and non-members to attend to learn about key issues that effect business.</span></span><br />\nDuring the October 4 meeting\, policy members and guests will hear presentations on city ballot questions concerning the Aquatic/Ice Rink Center and the Streets Tax.
LOCATION:Longmont Area Chamber of Commerce Conference Room 528 Main Street Longmont\, CO 80501
UID:e.3083.3650
SEQUENCE:3
DTSTAMP:20260426T023855Z
URL:https://members.longmontchamber.org/events/details/public-policy-10-04-2019-3650
END:VEVENT

END:VCALENDAR
