BEGIN:VCALENDAR
VERSION:2.0
PRODID:-//ChamberMaster//Event Calendar 2.0//EN
METHOD:PUBLISH
X-PUBLISHED-TTL:P3D
REFRESH-INTERVAL:P3D
CALSCALE:GREGORIAN
BEGIN:VEVENT
DTSTART:20211105T140000Z
DTEND:20211105T150000Z
X-MICROSOFT-CDO-ALLDAYEVENT:FALSE
SUMMARY:Public Policy Committee
DESCRIPTION:The Chamber advocates for business. It is a steward to affect positive change influencing public policy and economic sustainability\, helping to shape the community.\n\nPublic Policy meets monthly and holds ongoing educational forums for members and non-members to attend to learn about key issues that affect business. For the November 5 meeting\,  Phil Greenwald and Alden Jenkins with the City of Longmont's Planning and Development Services will present the transportation plan for the Coffman Street corridor.
X-ALT-DESC;FMTTYPE=text/html:<p>The Chamber advocates for business. It is a steward to affect positive change influencing public policy and economic sustainability\, helping to shape the community.</p>\n\n<p>Public Policy meets monthly and holds ongoing educational forums for members and non-members to attend to learn about key issues that affect business. For the November 5 meeting\,&nbsp\; Phil Greenwald and Alden Jenkins with the City of Longmont&#39\;s Planning and Development Services will present the transportation plan for the Coffman Street corridor.</p>\n
LOCATION:Currently meeting virtually.
UID:e.3083.3675
SEQUENCE:3
DTSTAMP:20260424T074659Z
URL:https://members.longmontchamber.org/events/details/public-policy-11-05-2021-3675
END:VEVENT

END:VCALENDAR
