BEGIN:VCALENDAR
VERSION:2.0
PRODID:-//ChamberMaster//Event Calendar 2.0//EN
METHOD:PUBLISH
X-PUBLISHED-TTL:P3D
REFRESH-INTERVAL:P3D
CALSCALE:GREGORIAN
BEGIN:VEVENT
DTSTART:20220204T150000Z
DTEND:20220204T160000Z
X-MICROSOFT-CDO-ALLDAYEVENT:FALSE
SUMMARY:Public Policy Committee: Sugar Mill + STEAM Sub Area Plan
DESCRIPTION:The Chamber advocates for business. It is a steward to affect positive change influencing public policy and economic sustainability\, helping to shape the community.\n\n\n\nThis month\, we will be joined by Erin Fosdick\, Principal Planner\, and Glen Van Nimwegen\, Planning Director\, for a presentation and Q&A about the Sugar Mill + STEAM Sub Area Plan. Chamber members and the community are invited to attend this virtual event.\n\nPublic Policy meets monthly and holds ongoing educational forums for members and non-members to attend to learn about key issues that affect business.
X-ALT-DESC;FMTTYPE=text/html:<p>The Chamber advocates for business. It is a steward to affect positive change influencing public policy and economic sustainability\, helping to shape the community.<br />\n<br />\nThis month\, we will&nbsp\;be joined by Erin Fosdick\, Principal Planner\, and Glen Van Nimwegen\, Planning Director\,&nbsp\;for a presentation and Q&amp\;A about the <a href="https://www.longmontcolorado.gov/departments/departments-n-z/planning-and-development-services/plans-and-reports/sugar-mill-steam-sub-area-plan#!/">Sugar Mill + STEAM Sub Area Plan</a>. Chamber members and the community are invited to attend this virtual event.</p>\n\n<p>Public Policy meets monthly and holds ongoing educational forums for members and non-members to attend to learn about key issues that affect business.</p>\n
LOCATION:Currently meeting virtually. Please register to access the meeting access information.
UID:e.3083.3678
SEQUENCE:3
DTSTAMP:20260424T031251Z
URL:https://members.longmontchamber.org/events/details/public-policy-committee-sugar-mill-steam-sub-area-plan-3678
END:VEVENT

END:VCALENDAR
