BEGIN:VCALENDAR
VERSION:2.0
PRODID:-//ChamberMaster//Event Calendar 2.0//EN
METHOD:PUBLISH
X-PUBLISHED-TTL:P3D
REFRESH-INTERVAL:P3D
CALSCALE:GREGORIAN
BEGIN:VEVENT
DTSTART:20190923T150000Z
DTEND:20190923T161500Z
X-MICROSOFT-CDO-ALLDAYEVENT:FALSE
SUMMARY:Public Policy Meeting: Proposition CC
DESCRIPTION:The Longmont Chamber will host State House Speaker KC Becker and Michael Fields\, Director of Colorado Rising Action to discuss support and opposition for Proposition CC.  \n\nColorado voters will be asked this Fall whether the state can retain excess revenue currently required to be returned to voters under TABOR (Taxpayer Bill of Rights). Proposition CC placed on the ballot by the legislature (HB 1257)\, would retain funds for K-12 education\, higher education and transportation.  \n\nChamber members are invited to attend this presentation with RSVP (space limited). Public Policy members do not need to RSVP. Public Policy members will be asked after the presentation to vote on their recommendation to the board if the Chamber should support or oppose Proposition CC.
X-ALT-DESC;FMTTYPE=text/html:The Longmont Chamber will host State House Speaker KC Becker and Michael Fields\, Director of Colorado Rising Action to discuss support and opposition for Proposition CC. &nbsp\;<br />\nColorado voters will be asked this Fall whether the state can retain excess revenue currently required to be returned to voters under TABOR (Taxpayer Bill of Rights). Proposition CC placed on the ballot by the legislature (HB 1257)\, would retain funds for K-12 education\, higher education and transportation. &nbsp\;<br />\nChamber members are invited to attend this presentation with RSVP (space limited). Public Policy members do not need to RSVP. Public Policy members will be asked after the presentation to vote on their recommendation to the board if the Chamber should support or oppose Proposition CC. &nbsp\;
LOCATION:Longmont Chamber Conference Room
UID:e.3083.7134
SEQUENCE:3
DTSTAMP:20260426T042127Z
URL:https://members.longmontchamber.org/events/details/public-policy-meeting-proposition-cc-7134
END:VEVENT

END:VCALENDAR
