BEGIN:VCALENDAR
VERSION:2.0
PRODID:-//ChamberMaster//Event Calendar 2.0//EN
METHOD:PUBLISH
X-PUBLISHED-TTL:P3D
REFRESH-INTERVAL:P3D
CALSCALE:GREGORIAN
BEGIN:VEVENT
DTSTART:20210623T160000Z
DTEND:20210623T170000Z
X-MICROSOFT-CDO-ALLDAYEVENT:FALSE
SUMMARY:Public Policy: Proposed Changes to 1031 Exchanges
DESCRIPTION:The Biden Administration Tax Plan has proposed a $4 trillion tax plan with changes to 1031 Exchanges. A tool often used by business and property owners.   During this session\, the Public Policy Committee will hear guest speaker\, Brent Abrahm\, President & CEO of Accruit explain the history and use of 1031 Exchanges and the impact proposed changes could have. Open to all members and guests. Zoom link sent by email after completing registration.
X-ALT-DESC;FMTTYPE=text/html:The Biden Administration Tax Plan has proposed a $4 trillion tax plan with changes to 1031 Exchanges. A tool often used by business and property owners. &nbsp\;&nbsp\;During this session\, the Public Policy Committee will hear guest speaker\, Brent Abrahm\, President &amp\; CEO of Accruit explain the history and use of 1031 Exchanges and the impact proposed changes could have. Open to all members and guests. Zoom link sent by email after completing registration.<br />\n&nbsp\;
LOCATION:
UID:e.3083.8458
SEQUENCE:3
DTSTAMP:20260424T153941Z
URL:https://members.longmontchamber.org/events/details/public-policy-proposed-changes-to-1031-exchanges-8458
END:VEVENT

END:VCALENDAR
