BEGIN:VCALENDAR
VERSION:2.0
PRODID:-//ChamberMaster//Event Calendar 2.0//EN
METHOD:PUBLISH
X-PUBLISHED-TTL:P3D
REFRESH-INTERVAL:P3D
CALSCALE:GREGORIAN
BEGIN:VEVENT
DTSTART:20221021T000000Z
DTEND:20221021T014500Z
X-MICROSOFT-CDO-ALLDAYEVENT:FALSE
SUMMARY:Put Down your Phone: Developing Healthy Screen Habits with Your Kids
DESCRIPTION:In this 3-week workshop exploring our cell phone use\, our kids' usage\, and the latest neuroscience around screen addiction we will:\n\n\n	explore our relationship with our phones\n	consider the effects of screen use on child development and parenting\n	learn how persuasive technology exploits our psychological vulnerabilities and makes these devices so addictive\n	develop a family plan for how to create healthy screen habits
X-ALT-DESC;FMTTYPE=text/html:<p>In this 3-week workshop exploring our cell phone use\, our kids&rsquo\; usage\, and the latest neuroscience around screen addiction we will:</p>\n\n<ul>\n	<li>explore our relationship with our phones</li>\n	<li>consider the effects of screen use on child development and parenting</li>\n	<li>learn how persuasive technology exploits our psychological vulnerabilities and makes these devices so addictive</li>\n	<li>develop a family plan for how to create healthy screen habits</li>\n</ul>\n
LOCATION:Superior Community Center 1500 Coalton Rd\, Superior\, CO 80027
UID:e.3083.9107
SEQUENCE:3
DTSTAMP:20260423T162057Z
URL:https://members.longmontchamber.org/events/details/put-down-your-phone-developing-healthy-screen-habits-with-your-kids-10-20-2022-9107
END:VEVENT

END:VCALENDAR
