BEGIN:VCALENDAR
VERSION:2.0
PRODID:-//ChamberMaster//Event Calendar 2.0//EN
METHOD:PUBLISH
X-PUBLISHED-TTL:P3D
REFRESH-INTERVAL:P3D
CALSCALE:GREGORIAN
BEGIN:VEVENT
DTSTART:20230807T160000Z
DTEND:20230807T230000Z
X-MICROSOFT-CDO-ALLDAYEVENT:FALSE
SUMMARY:Putts For Mutts
DESCRIPTION:Get your foursome together and join us at the beautiful Fox Hill Golf Club for a fun shotgun tournament including craft beers\, mini games\, and awesome prizes! Proceeds benefit Longmont Humane Society\, with special emphasis on Annie's Fund\, which pays for necessary extra medical treatments that some shelter pets require to thrive.
X-ALT-DESC;FMTTYPE=text/html:<span style="color:rgb(56\, 128\, 102)\; font-family:roboto\,helvetica neue\,helvetica\,sans-serif\; font-size:14px">Get your foursome together and join us at the beautiful Fox Hill Golf Club for a fun shotgun tournament including craft beers\, mini games\, and awesome prizes! Proceeds benefit Longmont Humane Society\, with special emphasis on&nbsp\;</span><em><strong>Annie&#39\;s Fund</strong></em><span style="color:rgb(56\, 128\, 102)\; font-family:roboto\,helvetica neue\,helvetica\,sans-serif\; font-size:14px">\, which pays for necessary extra medical treatments that some shelter pets require to thrive.</span>
LOCATION:Fox Hill Golf Club 1400 Hwy. 119 Longmont\, CO 80504
UID:e.3083.9679
SEQUENCE:3
DTSTAMP:20260423T004834Z
URL:https://members.longmontchamber.org/events/details/putts-for-mutts-9679
END:VEVENT

END:VCALENDAR
