BEGIN:VCALENDAR
VERSION:2.0
PRODID:-//ChamberMaster//Event Calendar 2.0//EN
METHOD:PUBLISH
X-PUBLISHED-TTL:P3D
REFRESH-INTERVAL:P3D
CALSCALE:GREGORIAN
BEGIN:VEVENT
DTSTART:20240708T180000Z
DTEND:20240708T230000Z
X-MICROSOFT-CDO-ALLDAYEVENT:FALSE
SUMMARY:Putts For Mutts Golf Tournament
DESCRIPTION:Get your foursome together and join us at the beautiful Fox Hill Golf Club for our second annual tournament We had such a blast last year we decided to do it again: sunny day with friends\, craft beers and cocktails\, mini games\, and awesome prizes! Proceeds benefit Longmont Humane Society\, with special emphasis on funding our nationally known Training and Behavior Modification Department\, which is how we can celebrate a 97% live return rate of pets who come to us from places that have given up on them.\n\nIndividuals welcome and will be placed on a team too!
X-ALT-DESC;FMTTYPE=text/html:<p>Get your foursome together and join us at the beautiful Fox Hill Golf Club for our second annual tournament We had such a blast last year we decided to do it again: sunny day with friends\, craft beers and cocktails\, mini games\, and awesome prizes! Proceeds benefit Longmont Humane Society\, with special emphasis on funding our nationally known Training and Behavior Modification Department\, which is how we can celebrate a&nbsp\;<em><strong>97% live return rate&nbsp\;</strong></em>of pets who come to us from places that have given up on them.</p>\n\n<p>Individuals welcome and will be placed on a team too!</p>\n
LOCATION:Fox Hill Golf Club 1400 State Hwy 119 Longmont\, CO 80504
UID:e.3083.10056
SEQUENCE:3
DTSTAMP:20260422T060806Z
URL:https://members.longmontchamber.org/events/details/putts-for-mutts-golf-tournament-10056
END:VEVENT

END:VCALENDAR
