BEGIN:VCALENDAR
VERSION:2.0
PRODID:-//ChamberMaster//Event Calendar 2.0//EN
METHOD:PUBLISH
X-PUBLISHED-TTL:P3D
REFRESH-INTERVAL:P3D
CALSCALE:GREGORIAN
BEGIN:VEVENT
DTSTART:20260510T170000Z
DTEND:20260510T200000Z
X-MICROSOFT-CDO-ALLDAYEVENT:FALSE
SUMMARY:Queer Tea Party Meetup
DESCRIPTION:Join us for Queer Tea Meet up\, and connect with other Queer people of Longmont.  A Great place to connect with each other\, meet new people and have a safe space all while enjoying some delicious teas and scones and supporting a LGBTQ owned business.\n\n\n\nJoin us every second Sunday of the Month!
X-ALT-DESC;FMTTYPE=text/html:<p><br />\n<span style="font-size:22px\;">Join us for Queer Tea Meet up\, and connect with other Queer people of Longmont.&nbsp\; A Great place to connect with each other\, meet new people&nbsp\;and have a safe space all while enjoying some delicious teas and scones and supporting a LGBTQ owned business.<br />\n<br />\nJoin us every second Sunday&nbsp\;of the Month!</span></p>\n\n<div>&nbsp\;</div>\n
LOCATION:Luminous Teahouse & Cafe
UID:e.3083.12159
SEQUENCE:3
DTSTAMP:20260420T150741Z
URL:https://members.longmontchamber.org/events/details/queer-tea-party-meetup-05-10-2026-12159
END:VEVENT

END:VCALENDAR
