BEGIN:VCALENDAR
VERSION:2.0
PRODID:-//ChamberMaster//Event Calendar 2.0//EN
METHOD:PUBLISH
X-PUBLISHED-TTL:P3D
REFRESH-INTERVAL:P3D
CALSCALE:GREGORIAN
BEGIN:VEVENT
DTSTART:20250625T010000Z
DTEND:20250625T023000Z
X-MICROSOFT-CDO-ALLDAYEVENT:FALSE
SUMMARY:QueerVerse (Poetry Open Mic) | A Free Quarterly Event | Hosted by Tobi J. Cahill
DESCRIPTION:Poetry Open Mic.  For ages 16+. \n\nThis is a sober event. \n\nFirst come\, first served. \n\nWe will be centering queer voices - allies welcome. \n\nDonations appreciated.
X-ALT-DESC;FMTTYPE=text/html:<br />\n<span style="font-size:18px\;"><span style="color: rgb(78\, 56\, 21)\; font-family: avenir-lt-w01_85-heavy1475544\, sans-serif\;"><span style="font-size:20px\;">Poetry Open Mic.&nbsp\; For ages 16+.&nbsp\;<br />\nThis is a sober event.&nbsp\;<br />\nFirst come\, first served.&nbsp\;<br />\nWe will be centering queer voices - allies welcome.&nbsp\;<br />\nDonations appreciated.</span></span></span>
LOCATION:Butterscotch Studios
UID:e.3083.13504
SEQUENCE:3
DTSTAMP:20260421T111656Z
URL:https://members.longmontchamber.org/events/details/queerverse-poetry-open-mic-a-free-quarterly-event-hosted-by-tobi-j-cahill-13504
END:VEVENT

END:VCALENDAR
