BEGIN:VCALENDAR
VERSION:2.0
PRODID:-//ChamberMaster//Event Calendar 2.0//EN
METHOD:PUBLISH
X-PUBLISHED-TTL:P3D
REFRESH-INTERVAL:P3D
CALSCALE:GREGORIAN
BEGIN:VEVENT
DTSTART:20250603T003000Z
DTEND:20250603T020000Z
X-MICROSOFT-CDO-ALLDAYEVENT:FALSE
SUMMARY:Ready for Love - A Transformative Coaching Experience for Single Individuals
DESCRIPTION:This group is for those ready to grow - both personally and relationally. All are welcome! We meet at 6:30 pm every other Monday for 90 minutes to do the deep inner work necessary for creating a great relationship.\n\n \n\n***This is a 4-part workshop. We ask that you enroll for the entire 4-week program***\n\n\n\nCost: $120 (which breaks down to $30 for each meeting)\n\n \n\nMeeting dates: \n\nJune 2nd\n\nJune 16th\n\nJune 30th\n\nJuly 14th\n\n \n\nIn this program\, you will:\n\n\n	Learn to communicate more effectively in an intimate relationship.\n	Recognize and shift patterns that made past relationships difficult.\n	Grow your emotional awareness by learning to use your feelings as a compass rather than a roadblock.\n	Create a clear vision for the kind of relationship you truly desire.\n	Cultivate the awareness that increases your openness to love and connection.\n	Connect with others interested in growth.\n\n\nAre you ready to move forward with clarity\, confidence\, and intention?\n\nIf you're willing to be honest with yourself\, learn from past experiences\, and embrace growth\, this program is for you.\n\n \n\nHelaine Reiner is the owner of Heart's Wisdom Relationship Coaching. She is a certified Life\, Joy Potential\, and Relationship Coach who works with both couples and individuals. Her specialty is to help people to untangle the emotional knots that hinder love and connection\, thus making space for trust\, intimacy\, and joy to grow.\n\nLink to website: https://www.workwithhelaine.live/\n\nLink to course: https://www.workwithhelaine.live/programs/love
X-ALT-DESC;FMTTYPE=text/html:<p style="text-align:initial"><span style="background-color:var(--ricos-custom-p-background-color\,unset)">This group is for those ready to grow - both personally and relationally. All are welcome! We meet at 6:30 pm every other Monday for 90 minutes to do the deep inner work necessary for creating a great relationship.</span></p>\n\n<div style="background:transparent\; border:0px\; padding:0px\; text-align:initial">&nbsp\;</div>\n\n<p style="text-align:initial"><strong>***This is a 4-part workshop. We ask that you enroll for the entire 4-week program***</strong><br />\n<br />\n<strong>Cost: $120</strong><span style="background-color:var(--ricos-custom-p-background-color\,unset)"> (which breaks down to $30 for each meeting)</span></p>\n\n<div style="background:transparent\; border:0px\; padding:0px\; text-align:initial">&nbsp\;</div>\n\n<p style="text-align:initial"><strong><u>Meeting dates: </u></strong></p>\n\n<p style="text-align:initial"><span style="background-color:var(--ricos-custom-p-background-color\,unset)">June 2nd</span></p>\n\n<p style="text-align:initial"><span style="background-color:var(--ricos-custom-p-background-color\,unset)">June 16th</span></p>\n\n<p style="text-align:initial"><span style="background-color:var(--ricos-custom-p-background-color\,unset)">June 30th</span></p>\n\n<p style="text-align:initial"><span style="background-color:var(--ricos-custom-p-background-color\,unset)">July 14th</span></p>\n\n<div style="background:transparent\; border:0px\; padding:0px\; text-align:initial">&nbsp\;</div>\n\n<p style="text-align:initial"><strong><u>In this program\, you will:</u></strong></p>\n\n<ul>\n	<li style="text-align: initial\;"><span style="background-color:var(--ricos-custom-p-background-color\,unset)">Learn to communicate more effectively in an intimate relationship.</span></li>\n	<li style="text-align: initial\;"><span style="background-color:var(--ricos-custom-p-background-color\,unset)"><span style="background-color:var(--ricos-custom-p-background-color\,unset)">Recognize and shift patterns that made past relationships difficult.</span></span></li>\n	<li style="text-align: initial\;"><span style="background-color:var(--ricos-custom-p-background-color\,unset)"><span style="background-color:var(--ricos-custom-p-background-color\,unset)"><span style="background-color:var(--ricos-custom-p-background-color\,unset)">Grow your emotional awareness by learning to use your feelings as a compass&nbsp\;<span style="background-color:var(--ricos-custom-p-background-color\,unset)">rather than a roadblock.</span></span></span></span></li>\n	<li style="text-align: initial\;"><span style="background-color:var(--ricos-custom-p-background-color\,unset)"><span style="background-color:var(--ricos-custom-p-background-color\,unset)"><span style="background-color:var(--ricos-custom-p-background-color\,unset)"><span style="background-color:var(--ricos-custom-p-background-color\,unset)"><span style="background-color:var(--ricos-custom-p-background-color\,unset)">Create a clear vision for the kind of relationship you truly desire.</span></span></span></span></span></li>\n	<li style="text-align: initial\;"><span style="background-color:var(--ricos-custom-p-background-color\,unset)"><span style="background-color:var(--ricos-custom-p-background-color\,unset)"><span style="background-color:var(--ricos-custom-p-background-color\,unset)"><span style="background-color:var(--ricos-custom-p-background-color\,unset)"><span style="background-color:var(--ricos-custom-p-background-color\,unset)"><span style="background-color:var(--ricos-custom-p-background-color\,unset)">Cultivate the awareness that increases your openness to love and connection.</span></span></span></span></span></span></li>\n	<li style="text-align: initial\;"><span style="background-color:var(--ricos-custom-p-background-color\,unset)"><span style="background-color:var(--ricos-custom-p-background-color\,unset)"><span style="background-color:var(--ricos-custom-p-background-color\,unset)"><span style="background-color:var(--ricos-custom-p-background-color\,unset)"><span style="background-color:var(--ricos-custom-p-background-color\,unset)"><span style="background-color:var(--ricos-custom-p-background-color\,unset)"><span style="background-color:var(--ricos-custom-p-background-color\,unset)">Connect with others interested in growth.</span></span></span></span></span></span></span></li>\n</ul>\n\n<div style="background:transparent\; border:0px\; padding:0px\; text-align:initial"><span style="background-color:var(--ricos-custom-p-background-color\,unset)\; text-align:initial">Are you ready to move forward with clarity\, confidence\, and intention?</span></div>\n\n<div style="background:transparent\; border:0px\; padding:0px\; text-align:initial"><span style="background-color:var(--ricos-custom-p-background-color\,unset)\; text-align:initial">If you&rsquo\;re willing to be honest with yourself\, learn from past experiences\, and embrace&nbsp\;</span><span style="background-color:var(--ricos-custom-p-background-color\,unset)\; text-align:initial">growth\, this program is for you.</span><br />\n&nbsp\;</div>\n\n<div style="background:transparent\; border:0px\; padding:0px\; text-align:initial"><span style="background-color:var(--ricos-custom-p-background-color\,unset)\; text-align:initial">Helaine Reiner is the owner of Heart&rsquo\;s Wisdom Relationship Coaching. She is a certified Life\, Joy Potential\, and Relationship Coach who works with both couples and individuals. Her specialty is to help people to untangle the emotional knots that hinder love and connection\, thus making space for trust\, intimacy\, and joy to grow.</span></div>\n\n<p style="text-align:initial"><span style="background-color:var(--ricos-custom-p-background-color\,unset)">Link to website: </span><a class="i9WLr CmCxT" href="https://www.workwithhelaine.live/" rel="noopener noreferrer" style="background-image: initial\; background-position: initial\; background-size: initial\; background-repeat: initial\; background-attachment: initial\; background-origin: initial\; background-clip: initial\; background-color: var(--ricos-custom-p-background-color\,unset)\; border: 0px\; margin: 0px\; outline: 0px\; padding: 0px\; vertical-align: baseline\; cursor: pointer\; text-decoration: var(--ricos-custom-link-text-decoration\,none)\; -webkit-tap-highlight-color: rgba(0\, 0\, 0\, 0)\; color: var(--ricos-custom-link-color\,var(--ricos-action-color\,#116dff))\; font-family: var(--ricos-custom-link-font-family\,unset)\; font-size: var(--ricos-custom-link-font-size\,unset)\; font-style: var(--ricos-custom-link-font-style\,unset)\; font-weight: var(--ricos-custom-link-font-weight\,unset)\; letter-spacing: var(--ricos-custom-link-letter-spacing\,unset)\; line-height: var(--ricos-custom-link-line-height\,unset)\; min-height: var(--ricos-custom-link-min-height\,unset)\; box-sizing: inherit\;" target="_blank">https://www.workwithhelaine.live/</a></p>\n\n<p style="text-align:initial"><span style="background-color:var(--ricos-custom-p-background-color\,unset)">Link to course: </span><a class="i9WLr CmCxT" href="https://www.workwithhelaine.live/programs/love" rel="noopener noreferrer" style="background-image: initial\; background-position: initial\; background-size: initial\; background-repeat: initial\; background-attachment: initial\; background-origin: initial\; background-clip: initial\; background-color: var(--ricos-custom-p-background-color\,unset)\; border: 0px\; margin: 0px\; outline: 0px\; padding: 0px\; vertical-align: baseline\; cursor: pointer\; text-decoration: var(--ricos-custom-link-text-decoration\,none)\; -webkit-tap-highlight-color: rgba(0\, 0\, 0\, 0)\; color: var(--ricos-custom-link-color\,var(--ricos-action-color\,#116dff))\; font-family: var(--ricos-custom-link-font-family\,unset)\; font-size: var(--ricos-custom-link-font-size\,unset)\; font-style: var(--ricos-custom-link-font-style\,unset)\; font-weight: var(--ricos-custom-link-font-weight\,unset)\; letter-spacing: var(--ricos-custom-link-letter-spacing\,unset)\; line-height: var(--ricos-custom-link-line-height\,unset)\; min-height: var(--ricos-custom-link-min-height\,unset)\; box-sizing: inherit\;" target="_blank"><u>https://www.workwithhelaine.live/programs/love</u></a></p>\n
LOCATION:Butterscotch Studios
UID:e.3083.13318
SEQUENCE:3
DTSTAMP:20260421T111018Z
URL:https://members.longmontchamber.org/events/details/ready-for-love-a-transformative-coaching-experience-for-single-individuals-13318
END:VEVENT

END:VCALENDAR
