BEGIN:VCALENDAR
VERSION:2.0
PRODID:-//ChamberMaster//Event Calendar 2.0//EN
METHOD:PUBLISH
X-PUBLISHED-TTL:P3D
REFRESH-INTERVAL:P3D
CALSCALE:GREGORIAN
BEGIN:VEVENT
DTSTART:20250709T170000Z
DTEND:20250710T040000Z
X-MICROSOFT-CDO-ALLDAYEVENT:FALSE
SUMMARY:Red Robin - Children's Miracle Network Fundraiser
DESCRIPTION:Red Robin will give 20% of food sales back to CHILDRENS MIRACLE NETWORK July 9th\, 2025 from 11:00 AM to 10:00 PM at 2331 Clover Basin Drive.\n\n\n\nMention the fundraiser to your server to have your sales counted.  See flyer for instructions if ordering online.
X-ALT-DESC;FMTTYPE=text/html:<br />\n<span style="font-size:20px\;">Red Robin will give 20% of food sales back to CHILDRENS MIRACLE NETWORK July 9th\, 2025 from 11:00 AM to 10:00 PM at 2331 Clover Basin Drive.</span><br />\n<br />\n<span style="font-size:20px\;">Mention the fundraiser to your server to have your sales counted.&nbsp\; See flyer for instructions if ordering online.</span>
LOCATION:Red Robin
UID:e.3083.13580
SEQUENCE:3
DTSTAMP:20260421T111056Z
URL:https://members.longmontchamber.org/events/details/red-robin-children-s-miracle-network-fundraiser-13580
END:VEVENT

END:VCALENDAR
