BEGIN:VCALENDAR
VERSION:2.0
PRODID:-//ChamberMaster//Event Calendar 2.0//EN
METHOD:PUBLISH
X-PUBLISHED-TTL:P3D
REFRESH-INTERVAL:P3D
CALSCALE:GREGORIAN
BEGIN:VEVENT
DTSTART:20240815T233000Z
DTEND:20240816T013000Z
X-MICROSOFT-CDO-ALLDAYEVENT:FALSE
SUMMARY:Regional Business After Hours
DESCRIPTION:Canvas Credit Union and Colorado State University are proud to host members from Northern Colorado for this regional business networking event 5:30   7:30 p.m.\, Thursday\, August 15 at Canvas Stadium. This is a significant opportunity for Members of the Longmont Area Chamber of Commerce to mix & mingle with the Members of other Chambers in Northern Colorado. We hope to see you there\, expanding your network to our neighboring townships! \n\nWe will continue the theme of community shared by the Northern Colorado Chambers of Commerce\, Canvas Credit Union and CSU and the collaborative efforts the community partners enjoy. All Chamber members\, Ram fans and the community are invited to attend.\n\nFood and drink will be served. Admission is $20/members and $30/non-member. Please select your Chamber when registering.\n\n\n\nNorthern Colorado Regional Chambers Include:\n\n\n	Berthoud Area Chamber of Commerce\n	Estes Chamber of Commerce\n	Fort Collins Area Chamber of Commerce\n	Greeley Area Chamber of Commerce\n	Longmont Area Chamber of Commerce\n	Loveland Area Chamber of Commerce\n	NoCo Latino Chamber of Commerce\n	Timnath Chamber of Commerce\n	Wellington Area Chamber of Commerce\n	Windsor Area Chamber of Commerce
X-ALT-DESC;FMTTYPE=text/html:<p style="box-sizing: border-box\; margin-top: 0px\; margin-right: 0px\; margin-bottom: var(--tec-spacer-3)\; margin-left: 0px\; padding: 0px 0px 1em\; border: 0px\; outline: 0px\; font-size: var(--tec-font-size-4)\; text-size-adjust: 100%\; vertical-align: baseline\; background-image: initial\; background-position: initial\; background-size: initial\; background-repeat: initial\; background-attachment: initial\; background-origin: initial\; background-clip: initial\; line-height: var(--tec-line-height-2)\; color: rgb(20\, 24\, 39)\; font-family: &quot\;Red Hat Text&quot\;\, Helvetica\, Arial\, Lucida\, sans-serif\;"><span style="font-family:arial\;"><span style="box-sizing: border-box\; margin: 0px\; padding: 0px\; border: 0px\; outline: 0px\; text-size-adjust: 100%\; vertical-align: baseline\; background: transparent\; font-weight: 700\;"><a href="https://www.canvas.org/" rel="noopener" style="box-sizing: border-box\; margin: 0px\; padding: 0px\; border-top: 0px\; border-right: 0px\; border-bottom: 1px solid var(--tec-color-link-accent)\; border-left: 0px\; border-image: initial\; outline: 0px\; text-size-adjust: 100%\; vertical-align: baseline\; background: transparent\; color: var(--tec-color-link-primary)\; text-decoration-line: none\; transition: var(--tec-transition-color)\;" target="_blank">Canvas Credit Union</a></span>&nbsp\;and&nbsp\;<span style="box-sizing: border-box\; margin: 0px\; padding: 0px\; border: 0px\; outline: 0px\; text-size-adjust: 100%\; vertical-align: baseline\; background: transparent\; font-weight: 700\;"><a href="https://www.colostate.edu/" rel="noopener" style="box-sizing: border-box\; margin: 0px\; padding: 0px\; border-top: 0px\; border-right: 0px\; border-bottom: 1px solid var(--tec-color-link-accent)\; border-left: 0px\; border-image: initial\; outline: 0px\; text-size-adjust: 100%\; vertical-align: baseline\; background: transparent\; color: var(--tec-color-link-primary)\; text-decoration-line: none\; transition: var(--tec-transition-color)\;" target="_blank">Colorado State University</a></span>&nbsp\;are proud to host members from Northern Colorado for this regional business networking event 5:30 &ndash\; 7:30 p.m.\, Thursday\, August 15 at Canvas Stadium.&nbsp\;<strong>This is a significant opportunity for Members of the Longmont Area Chamber of Commerce to mix &amp\; mingle with the Members of other Chambers in Northern Colorado. </strong>We hope to see you there\, expanding your network to our neighboring townships!&nbsp\;</span></p>\n\n<p style="box-sizing: border-box\; margin-top: 0px\; margin-right: 0px\; margin-bottom: var(--tec-spacer-3)\; margin-left: 0px\; padding: 0px 0px 1em\; border: 0px\; outline: 0px\; font-size: var(--tec-font-size-4)\; text-size-adjust: 100%\; vertical-align: baseline\; background-image: initial\; background-position: initial\; background-size: initial\; background-repeat: initial\; background-attachment: initial\; background-origin: initial\; background-clip: initial\; line-height: var(--tec-line-height-2)\; color: rgb(20\, 24\, 39)\; font-family: &quot\;Red Hat Text&quot\;\, Helvetica\, Arial\, Lucida\, sans-serif\;"><span style="font-family:arial\;">We will continue the theme of community shared by the Northern Colorado Chambers of Commerce\, Canvas Credit Union and CSU and the collaborative efforts the community partners enjoy. All Chamber members\, Ram fans and the community are invited to attend.</span></p>\n\n<p style="box-sizing: border-box\; margin-top: 0px\; margin-right: 0px\; margin-bottom: var(--tec-spacer-3)\; margin-left: 0px\; padding: 0px 0px 1em\; border: 0px\; outline: 0px\; font-size: var(--tec-font-size-4)\; text-size-adjust: 100%\; vertical-align: baseline\; background-image: initial\; background-position: initial\; background-size: initial\; background-repeat: initial\; background-attachment: initial\; background-origin: initial\; background-clip: initial\; line-height: var(--tec-line-height-2)\; color: rgb(20\, 24\, 39)\; font-family: &quot\;Red Hat Text&quot\;\, Helvetica\, Arial\, Lucida\, sans-serif\;"><span style="font-family:arial\;">Food and drink will be served. Admission is $20/members and $30/non-member. Please select your Chamber when registering.<br />\n<br />\n<u>Northern Colorado Regional Chambers Include:</u></span></p>\n\n<ul>\n	<li style="box-sizing: border-box\; margin-top: 0px\; margin-right: 0px\; margin-bottom: var(--tec-spacer-3)\; margin-left: 0px\; padding: 0px 0px 1em\; border: 0px\; outline: 0px\; font-size: var(--tec-font-size-4)\; text-size-adjust: 100%\; vertical-align: baseline\; background-image: initial\; background-position: initial\; background-size: initial\; background-repeat: initial\; background-attachment: initial\; background-origin: initial\; background-clip: initial\; line-height: var(--tec-line-height-2)\; color: rgb(20\, 24\, 39)\; font-family: &quot\;Red Hat Text&quot\;\, Helvetica\, Arial\, Lucida\, sans-serif\;"><span style="font-family:arial\;">Berthoud Area Chamber of Commerce</span></li>\n	<li style="box-sizing: border-box\; margin-top: 0px\; margin-right: 0px\; margin-bottom: var(--tec-spacer-3)\; margin-left: 0px\; padding: 0px 0px 1em\; border: 0px\; outline: 0px\; font-size: var(--tec-font-size-4)\; text-size-adjust: 100%\; vertical-align: baseline\; background-image: initial\; background-position: initial\; background-size: initial\; background-repeat: initial\; background-attachment: initial\; background-origin: initial\; background-clip: initial\; line-height: var(--tec-line-height-2)\; color: rgb(20\, 24\, 39)\; font-family: &quot\;Red Hat Text&quot\;\, Helvetica\, Arial\, Lucida\, sans-serif\;"><span style="font-family:arial\;">Estes Chamber of Commerce</span></li>\n	<li style="box-sizing: border-box\; margin-top: 0px\; margin-right: 0px\; margin-bottom: var(--tec-spacer-3)\; margin-left: 0px\; padding: 0px 0px 1em\; border: 0px\; outline: 0px\; font-size: var(--tec-font-size-4)\; text-size-adjust: 100%\; vertical-align: baseline\; background-image: initial\; background-position: initial\; background-size: initial\; background-repeat: initial\; background-attachment: initial\; background-origin: initial\; background-clip: initial\; line-height: var(--tec-line-height-2)\; color: rgb(20\, 24\, 39)\; font-family: &quot\;Red Hat Text&quot\;\, Helvetica\, Arial\, Lucida\, sans-serif\;"><span style="font-family:arial\;">Fort Collins Area Chamber of Commerce</span></li>\n	<li style="box-sizing: border-box\; margin-top: 0px\; margin-right: 0px\; margin-bottom: var(--tec-spacer-3)\; margin-left: 0px\; padding: 0px 0px 1em\; border: 0px\; outline: 0px\; font-size: var(--tec-font-size-4)\; text-size-adjust: 100%\; vertical-align: baseline\; background-image: initial\; background-position: initial\; background-size: initial\; background-repeat: initial\; background-attachment: initial\; background-origin: initial\; background-clip: initial\; line-height: var(--tec-line-height-2)\; color: rgb(20\, 24\, 39)\; font-family: &quot\;Red Hat Text&quot\;\, Helvetica\, Arial\, Lucida\, sans-serif\;"><span style="font-family:arial\;">Greeley Area Chamber of Commerce</span></li>\n	<li style="box-sizing: border-box\; margin-top: 0px\; margin-right: 0px\; margin-bottom: var(--tec-spacer-3)\; margin-left: 0px\; padding: 0px 0px 1em\; border: 0px\; outline: 0px\; font-size: var(--tec-font-size-4)\; text-size-adjust: 100%\; vertical-align: baseline\; background-image: initial\; background-position: initial\; background-size: initial\; background-repeat: initial\; background-attachment: initial\; background-origin: initial\; background-clip: initial\; line-height: var(--tec-line-height-2)\; color: rgb(20\, 24\, 39)\; font-family: &quot\;Red Hat Text&quot\;\, Helvetica\, Arial\, Lucida\, sans-serif\;"><span style="font-family:arial\;">Longmont Area Chamber of Commerce</span></li>\n	<li style="box-sizing: border-box\; margin-top: 0px\; margin-right: 0px\; margin-bottom: var(--tec-spacer-3)\; margin-left: 0px\; padding: 0px 0px 1em\; border: 0px\; outline: 0px\; font-size: var(--tec-font-size-4)\; text-size-adjust: 100%\; vertical-align: baseline\; background-image: initial\; background-position: initial\; background-size: initial\; background-repeat: initial\; background-attachment: initial\; background-origin: initial\; background-clip: initial\; line-height: var(--tec-line-height-2)\; color: rgb(20\, 24\, 39)\; font-family: &quot\;Red Hat Text&quot\;\, Helvetica\, Arial\, Lucida\, sans-serif\;"><span style="font-family:arial\;">Loveland Area Chamber of Commerce</span></li>\n	<li style="box-sizing: border-box\; margin-top: 0px\; margin-right: 0px\; margin-bottom: var(--tec-spacer-3)\; margin-left: 0px\; padding: 0px 0px 1em\; border: 0px\; outline: 0px\; font-size: var(--tec-font-size-4)\; text-size-adjust: 100%\; vertical-align: baseline\; background-image: initial\; background-position: initial\; background-size: initial\; background-repeat: initial\; background-attachment: initial\; background-origin: initial\; background-clip: initial\; line-height: var(--tec-line-height-2)\; color: rgb(20\, 24\, 39)\; font-family: &quot\;Red Hat Text&quot\;\, Helvetica\, Arial\, Lucida\, sans-serif\;"><span style="font-family:arial\;">NoCo Latino Chamber of Commerce</span></li>\n	<li style="box-sizing: border-box\; margin-top: 0px\; margin-right: 0px\; margin-bottom: var(--tec-spacer-3)\; margin-left: 0px\; padding: 0px 0px 1em\; border: 0px\; outline: 0px\; font-size: var(--tec-font-size-4)\; text-size-adjust: 100%\; vertical-align: baseline\; background-image: initial\; background-position: initial\; background-size: initial\; background-repeat: initial\; background-attachment: initial\; background-origin: initial\; background-clip: initial\; line-height: var(--tec-line-height-2)\; color: rgb(20\, 24\, 39)\; font-family: &quot\;Red Hat Text&quot\;\, Helvetica\, Arial\, Lucida\, sans-serif\;"><span style="font-family:arial\;">Timnath Chamber of Commerce</span></li>\n	<li style="box-sizing: border-box\; margin-top: 0px\; margin-right: 0px\; margin-bottom: var(--tec-spacer-3)\; margin-left: 0px\; padding: 0px 0px 1em\; border: 0px\; outline: 0px\; font-size: var(--tec-font-size-4)\; text-size-adjust: 100%\; vertical-align: baseline\; background-image: initial\; background-position: initial\; background-size: initial\; background-repeat: initial\; background-attachment: initial\; background-origin: initial\; background-clip: initial\; line-height: var(--tec-line-height-2)\; color: rgb(20\, 24\, 39)\; font-family: &quot\;Red Hat Text&quot\;\, Helvetica\, Arial\, Lucida\, sans-serif\;"><span style="font-family:arial\;">Wellington Area Chamber of Commerce</span></li>\n	<li style="box-sizing: border-box\; margin-top: 0px\; margin-right: 0px\; margin-bottom: var(--tec-spacer-3)\; margin-left: 0px\; padding: 0px 0px 1em\; border: 0px\; outline: 0px\; font-size: var(--tec-font-size-4)\; text-size-adjust: 100%\; vertical-align: baseline\; background-image: initial\; background-position: initial\; background-size: initial\; background-repeat: initial\; background-attachment: initial\; background-origin: initial\; background-clip: initial\; line-height: var(--tec-line-height-2)\; color: rgb(20\, 24\, 39)\; font-family: &quot\;Red Hat Text&quot\;\, Helvetica\, Arial\, Lucida\, sans-serif\;"><span style="font-family:arial\;">Windsor Area Chamber of Commerce</span></li>\n</ul>\n
LOCATION:CANVAS STADIUM 751 W Pitkin St\, Fort Collins\, CO 80521
UID:e.3083.10178
SEQUENCE:3
DTSTAMP:20260422T043913Z
URL:https://members.longmontchamber.org/events/details/regional-business-after-hours-10178
END:VEVENT

END:VCALENDAR
